BEGIN:VCALENDAR
VERSION:2.0
PRODID:-//SoyChiapanecote - ECPv6.15.18//NONSGML v1.0//EN
CALSCALE:GREGORIAN
METHOD:PUBLISH
X-ORIGINAL-URL:https://www.soychiapanecote.com
X-WR-CALDESC:Eventos para SoyChiapanecote
REFRESH-INTERVAL;VALUE=DURATION:PT1H
X-Robots-Tag:noindex
X-PUBLISHED-TTL:PT1H
BEGIN:VTIMEZONE
TZID:UTC
BEGIN:STANDARD
TZOFFSETFROM:+0000
TZOFFSETTO:+0000
TZNAME:UTC
DTSTART:20160101T000000
END:STANDARD
END:VTIMEZONE
BEGIN:VEVENT
DTSTART;TZID=UTC:20171028T190000
DTEND;TZID=UTC:20171029T010000
DTSTAMP:20260425T212018
CREATED:20170616T062017Z
LAST-MODIFIED:20180201T124110Z
UID:2465-1509217200-1509238800@www.soychiapanecote.com
SUMMARY:Tecate Location Tuxtla | Enjambre\, Camilo Séptimo y Caifanes en Tuxtla
DESCRIPTION:¡Tecate Location Tuxtla regresa! De nueva cuenta Chiapas ha sido seleccionada para ser parte de los diversos puntos que serán parte de la serie de conciertos Tecate Location de este año. \nSi deseas conocer toda la información que se ha revelado hasta el momento de la edición 2018 del Tecate Location Tuxtla visita nuestro artículo: \nTecate Location Tuxtla 2018 – Zoé\, Fobia Siddartha y Los MasterPlus \n\n________ \nComo te lo habíamos mencionado anteriormente en este artículo\, desde hace tiempo Saúl Hernández\, vocalista de Caifanes anunció una presentación con su grupo en la capital del estado\, hoy por fin se ha revelado el cartel del evento\, se trata del Tecate Location Tuxtla\, un evento organizado por la famosa cervecera que contará también con la participación de Enjambre y Camilo Séptimo. \n \nDetalles del evento Tecate Location Tuxtla\nLa cede del evento será el Estadio de Béisbol «Panchón Contreras»\, detrás del Estadio Zoque Victor Manuel Reyna. \nFecha: Sábado\, 28 de Octubre del 2017 \nCostos de los Boletos:\nFase 01:\nGeneral: $450*\nVIP: $750* \n*Algunas plataformas de venta incluyen un costo extra no incluido.\nUPDATE DE FASES (22-Oct-2017) \n \nPuntos de Venta:\n\nFarmacias del Ahorro Plaza Crystal\nFarmacias del Ahorro Parque de la Marimba\nFarmacias del Ahorro Teatro San Cristóbal\nFarmacias del Ahorro Zócalo\n\nAdemás puedes comprar tus boletos sin hacer filas de manera online a tráves del portal SuperBoletos.com \nLos boletos estarán disponibles a partir de este martes 20 de junio\, por lo cual te recomendamos que te prepares y compres a tiempo para asegurar tu lugar en este evento. \nLineup del Tecate Location Tuxtla\nEl cartel del Tecate Location Tuxtla está encabezado por la banda veterana del rock nacional Caifanes\, quienes celebrarán 30 años de carrera acompañados por la popular banda de rock Enjambre y por la agrupación Camilo Séptimo.\n \nEl evento tiene pinta de ser algo a lo que vale la pena asistir\, esperemos sea una experiencia inigualable para los amantes del rock del estado y las canciones de estas aclamadas agrupaciones sean cantadas por los presentes con mucha energía. \nSigue los detalles de este evento en el evento oficial de Facebook:\nhttps://www.facebook.com/events/225788864605064 \nFinalmente\, te dejamos alguno de los éxitos de las bandas presentes en el Tecate Location Tuxtla para que vayas entrando en ambiente: \n     \nTe puede interesar: 4 Pueblos Mágicos de Chiapas que debes conocer antes de los 30
URL:https://www.soychiapanecote.com/evento/tecate-location-tuxtla-enjambre-caifanes/
LOCATION:Estadio de Béisbol Panchón Contreras\, Libramiento Nte. Ote.\, Zona Sin Asignación de Nombre de Col 24\, Tuxtla Gutiérrez\, Chis.\, Tuxtla Gutiérrez\, Chiapas\, México
CATEGORIES:Conciertos en Chiapas
ATTACH;FMTTYPE=image/jpeg:https://www.soychiapanecote.com/wp-content/uploads/2017/06/tecade-location-header-min.jpg
END:VEVENT
END:VCALENDAR