BEGIN:VCALENDAR
VERSION:2.0
PRODID:-//SoyChiapanecote - ECPv6.15.18//NONSGML v1.0//EN
CALSCALE:GREGORIAN
METHOD:PUBLISH
X-ORIGINAL-URL:https://www.soychiapanecote.com
X-WR-CALDESC:Eventos para SoyChiapanecote
REFRESH-INTERVAL;VALUE=DURATION:PT1H
X-Robots-Tag:noindex
X-PUBLISHED-TTL:PT1H
BEGIN:VTIMEZONE
TZID:UTC
BEGIN:STANDARD
TZOFFSETFROM:+0000
TZOFFSETTO:+0000
TZNAME:UTC
DTSTART:20160101T000000
END:STANDARD
END:VTIMEZONE
BEGIN:VEVENT
DTSTART;TZID=UTC:20171111T080000
DTEND;TZID=UTC:20171111T230000
DTSTAMP:20260425T195112
CREATED:20171107T113237Z
LAST-MODIFIED:20171107T113237Z
UID:2642-1510387200-1510441200@www.soychiapanecote.com
SUMMARY:Los Claxons en Tuxtla Gutiérrez\, Chiapas
DESCRIPTION:No te puedes perder la presentación de Los Claxons en Tuxtla Gutiérrez\, Chiapas\, un concierto lleno de música\, buen ambiente y en esta ocasión una muy buena causa. \nLos Claxons se suman a ayudar a la población chiapaneca brindando un concierto en beneficio de las familias damnificadas por el terremoto que golpeo al estado el pasado 7 de noviembre el cual afectó viviendas\, infraestructura pública y a muchas familias que aún no reciben la ayuda necesaria. \nDetalles del Evento: Los Claxons en Tuxtla\nEscenario: Arena Metropolitana Jorge Cuesy Serrano\nUbicación: Libramiento Sur Poniente s/n\, Las Brisas\, 29030 Tuxtla Gutiérrez\, Chis. \nPrecio y puntos de venta de los boletos\nPrecios: \nGeneral $100 \nPreferente $200 \nVIP $300 \n \nPuntos de Venta: \nBoston’s Tuxtla \nPlaza Galerias Boulervard (Frente a Cinemex) \nCruz Roja Tuxtla Gutiérrez (Área de Cajas) \nFecha: 11 de Noviembre \nHora: 8:00 PM \nRecuerda que lo recaudado será en beneficio de la Cruz Roja Mexicana y para los damnificados por el temblor quienes aún necesitan tu ayuda\, apoyemos a nuestros paisanos acudiendo al evento a pasar un buen momento. Esperemos esta información te haya sido de utilidad\, recuerda que si tienes alguna duda\, comentario o quieres anunciar algún evento puedes contactarnos a soychiapanecote@gmail.com \nFinalmente te dejamos unos videos de la banda para que comiences a calentar motores para este evento: \n  \nNo olvides consultar nuestra cartelera completa con los Eventos en Chiapas\nTambién te recomendamos leer: Grutas de Rancho Nuevo\, un lugar escondido en Chiapas que debes conocer
URL:https://www.soychiapanecote.com/evento/los-claxons-en-tuxtla-gutierrez-chiapas/
LOCATION:Arena Metropolitana ‘Jorge Cuesy’\, Quetzales s/n Col. Flamboyant\, Tuxtla Gutiérrez\, Chiapas\, 29034\, México
CATEGORIES:Conciertos en Chiapas
ATTACH;FMTTYPE=image/jpeg:https://www.soychiapanecote.com/wp-content/uploads/2017/11/los-claxons-en-tuxtla.jpg
END:VEVENT
BEGIN:VEVENT
DTSTART;TZID=UTC:20171118T200000
DTEND;TZID=UTC:20171119T010000
DTSTAMP:20260425T195112
CREATED:20171022T111137Z
LAST-MODIFIED:20171031T110034Z
UID:2591-1511035200-1511053200@www.soychiapanecote.com
SUMMARY:Rock en tu Idioma Sinfónico en Tuxtla Gutiérrez\, Chiapas
DESCRIPTION:Ahora renovados y con más energía\, con nuevas canciones e integrantes se presenta el proyecto Rock en tu Idioma Sinfónico en Tuxtla\, Gutiérrez\, Chiapas. \n¿Qué es Rock en tu Idioma Sinfónico?\nSe conoce como Rock en tu Idioma Sinfónico al proyecto liderado por Sabo Romo (Bajista de Caifanes) en el cuál se reúnen los principales exponentes del movimiento de los 90’s denominado Rock en tu Idioma ahora acompañados de una orquesta que eleva el espectáculo a una experiencia completamente diferente a la de un concierto de rock\, experiencia que podrá ser vivida por el público chiapaneco en la capital del estado. A continuación te compartimos todos los detalles. \nAcompañados de otros músicos como Jorge «Chiquis» Amaro (Fobia/Jotdog)\, Arturo Ybarra (Rostros Ocultos/Montana) y Gasú (Los Amantes de Lola) y la Orquesta Sinfónica\, este espectáculo esta listo para revivir los temas que marcaron a diversas generaciones. \nDetalles del evento Rock en tu idioma Sinfónico en Tuxtla Gutiérrez\, Chiapas\nLugar: Polyforum Chiapas\, Tuxtla Gutiérrez\, Chiapas. \nFecha: 18 de Noviembre del 2017 \nHora: 08:00 PM \nPrecios:\n \n$495.00 – Zona Turquesa ◉ \n$990.00 – Zona Magenta (Lateral Izquierda) ◉ \n$990.00 – Zona Amarilla (Lateral Derecha) ◉ \n$1\,320.00 – Zona Verde (Esquina Izquierda) ◉ \n$1\,320.00 – Zona Azul (Esquina Derecha) ◉ \n$1\,760.00 – Magenta Central ◉ \n$2\,090.00 – Zona Melón ◉ \n$2\,475.00 – Zona VIP ◉ \nPuntos de Venta:\n \nLa venta de boletos para la presentación de Rock en tu Idioma Sinfónico en Tuxtla Gutiérrez se hará principalmente a través del portal web Superboletos en el apartado de conciertos en Chiapas. Sin embargo también es posible adquirirlos en diversas sucursales de Farmacias del Ahorro. \nSuc. Zocálo – Centro \nSuc. Plaza Crystal \nSuc. Teatro de la Ciudad \nSuc. Parque de la Marimba \nLine Up de Invitados a Rock en tu Idioma Sinfónico para el show en Tuxtla Gutiérrez:\n\nSabo Romo (Caifanes/Jaguares)\nLeonardo de Lozzane (Fobia/Los Concorde)\nKazz (Los Amantes de Lola)\nFrancisco Familiar (DLD)\nGasú (Los Amantes de Lola)\nBon (Bon y los enemigos del silencio)\n«Chiquis» Amaro (JotDog\, Rostros Ocultos)\nNeón\nArturo Ybarra y Cala Villa (Rostros Ocultos)\n\nEl show que llega a Chiapas es la segunda versión del proyecto creado por el bajista de Caifanes\, en esta ocasión se hizo acompañar de músicos de talla internacional que marcaron el Rock Nacional como Cecilia Toussaint\, Sergio Arau (Botellita de Jerez)\, María Barracuda (JotDog)\, Víctimas del Doctor Cerebro\, El gran Silencio\, entre otros. \nAquí te dejamos una probada de lo que fue la primer versión de este proyecto que sin dudas nos hace recordar otras épocas del rock nacional: \n\nSin lugar a dudas\, la presencia de Rock en tu idioma Sinfónico en Tuxtla Gutiérrez es algo que deber ir a ver si eres fanático del rock y de las nuevas propuestas\, podrás disfrutar un desfile de personalidades compartiendo su talento en un show que promete dejar un agradable sabor de boca con toques de nostalgia y por supuesto\, mucho rock. \n¿Te animas? \nAprovecha para leer: Palabras que solo usamos los chiapanecos
URL:https://www.soychiapanecote.com/evento/rock-en-tu-idioma-sinfonico-en-chiapas/
LOCATION:Centro de Convenciones y Polyforum Chiapas\, Andrés Serra Rojas S/N\, El Retiro\, 29040 Tuxtla Gutiérrez\, Chis.\, Tuxtla Gutiérrez\, Chiapas\, 30200\, México
CATEGORIES:Conciertos en Chiapas
ATTACH;FMTTYPE=image/jpeg:https://www.soychiapanecote.com/wp-content/uploads/2017/10/rockentuidiomaenchiapas-min.jpg
END:VEVENT
END:VCALENDAR