BEGIN:VCALENDAR
VERSION:2.0
PRODID:-//SoyChiapanecote - ECPv6.15.18//NONSGML v1.0//EN
CALSCALE:GREGORIAN
METHOD:PUBLISH
X-WR-CALNAME:SoyChiapanecote
X-ORIGINAL-URL:https://www.soychiapanecote.com
X-WR-CALDESC:Eventos para SoyChiapanecote
REFRESH-INTERVAL;VALUE=DURATION:PT1H
X-Robots-Tag:noindex
X-PUBLISHED-TTL:PT1H
BEGIN:VTIMEZONE
TZID:UTC
BEGIN:STANDARD
TZOFFSETFROM:+0000
TZOFFSETTO:+0000
TZNAME:UTC
DTSTART:20170101T000000
END:STANDARD
END:VTIMEZONE
BEGIN:VEVENT
DTSTART;TZID=UTC:20180117T190000
DTEND;TZID=UTC:20180117T230000
DTSTAMP:20260425T165911
CREATED:20171217T092846Z
LAST-MODIFIED:20171217T092846Z
UID:2801-1516215600-1516230000@www.soychiapanecote.com
SUMMARY:Concierto Esperanza de Arturo Aquino y amigos
DESCRIPTION:El terremoto de septiembre del 2017 dejó grandes perdidas materiales en el estado\, desde esa fecha la ayuda no ha dejado de fluir\, sin embargo nunca es suficiente\, es por eso que ahora podrás disfrutar del Concierto Esperanza de Arturo Aquino y amigos \nUn concierto en beneficio de los damnificados de este terrible acontecimiento\, a través de la música y su talento\, el Piano de México brindará una presentación en el Polyforum de Tuxtla Gutiérrez que promete llenar de emotividad y buena música a los asistentes. \nEste concierto es una iniciativa a la que se sumarán más amigos y colegas de Arturo Aquino\, hasta hoy en día se ha confirmado la presencia de nada más y nada menos que el trovador chiapaneco Raúl Ornelas ¿realmente te lo piensas perder? \nDetalles del Evento: Concierto Esperanza de Arturo Aquino y amigos\nFecha: Miércoles 17 de Enero 2017 \nHora: 08:00 PM \nLugar: Centro de Convenciones y Polyforum \nDirección: Andrés Serra Rojas S/N\, El Retiro\, 29040\, Tuxtla Gutiérrez\, Chis. \nPrecios de los Boletos y Localidades disponibles:\nVip $630\nMelón Preferente $430\nMelón Lateral $330\nMagenta Preferente $270\nMagenta Latera $220\nAzul Preferente $115\nAzul Lateral $115 \n \nLos boletos están disponibles a través del portal Smarticket para ser adquiridos vía online\, además se han abierto un par de puntos en la ciudad para que puedas adquirir tus boletos de forma física. \nRecuerda que una parte de las ganancias obtenidas en esta función serán donaciones para los damnificados\, apoyemos a los hermanos chiapanecas que aún lo necesitan. \nFarmacia del Ahorro\, Sucursal Parque de la Marimba\n(Avenida Central Pte. S/N\, Centro\, Guadalupe)\nPlaza Galerías Boulevard\n(Blvd. Belisario Domínguez 1861\, Bugambilias\, a un costado de Plaza Crystal) \nNo te puedes perder este concierto en donde podrás deleitarte con las piezas más notables de Arturo Aquino y sus amigos\, además de escuchar interpretaciones de obras clásicas. \nFinalmente te invitamos a que consultes nuestro calendario de eventos dando clic aquí: \nSi tienes pensado realizar algún viaje en el estado\, te sugerimos que leas nuestro más reciente publicación sobre Turismo en Chiapas: Cascadas El Chiflón\, un lugar que te dejará sin aliento
URL:https://www.soychiapanecote.com/evento/concierto-esperanza-de-arturo-aquino/
LOCATION:Centro de Convenciones y Polyforum Chiapas\, Andrés Serra Rojas S/N\, El Retiro\, 29040 Tuxtla Gutiérrez\, Chis.\, Tuxtla Gutiérrez\, Chiapas\, 30200\, México
CATEGORIES:Conciertos en Chiapas
ATTACH;FMTTYPE=image/jpeg:https://www.soychiapanecote.com/wp-content/uploads/2017/12/concierto-esperanza-arturo.jpg
END:VEVENT
BEGIN:VEVENT
DTSTART;TZID=UTC:20180122T200000
DTEND;TZID=UTC:20180122T233000
DTSTAMP:20260425T165911
CREATED:20180116T121133Z
LAST-MODIFIED:20180116T121133Z
UID:2891-1516651200-1516663800@www.soychiapanecote.com
SUMMARY:Moderatto en Zinacantán | Feria de Zinacantán 2018
DESCRIPTION:Como parte de las celebraciones en honor a San Sebastián Mártir se organiza la más grande feria del pueblo zinacanteco\, no te pierdas la espectacular presentación de Moderatto en Zinacantán\, aquí te compartimos todos los detalles. \nEn el marco de la tradicional Feria de Zinacantán se realizan una gran cantidad de actividades tanto artísticas como deportivas y culturales entre el 20 y el 22 de Enero\, este año trae un cartel espectacular\, en especial su cierre. \nComo parte de la clausura de esta festividad\, se llevará a acabo la Tradicional Cabalgata 2018\, además de espectáculos deportivos de Lucha Libre y la presentación del Grupo Palomo y el imitador Billy Moreno. \nSin embargo el plato fuerte de este cierre es la banda de rock y pop Moderatto. \nDetalles del evento: Moderatto en Zinacantán\nLugar: Explanada Municipal del Parque Central del municipio de Zinacantán \nFecha: Lunes\, 22 de Enero \nHorario: 20:00 hrs. \nPrecios y Locaciones:\nAl ser un evento popular no existirá costo alguno\, solo tienes que ir al parque central dispuesto a corear las canciones de este popular grupo\, además no hay lugares ni locaciones definidas\, por lo que te sugerimos llegar una buena hora para poder ver a estos músicos desde una buena posición. \nLa Feria de Zinacantán se engalanará con la presencia de estos rockeros\, aquí te compartimos su último éxito no sin antes invitarte a nuestra cartelera de Eventos en Chiapas además de nuestro último artículo: 7 Cascadas de Chiapas que debes visitar\, el cual sabemos\, te va a encantar. \n  \nLa banda liderada por Jay de la Cueva es muy popular entre el público por su capacidad de coverear canciones y poner a vibrar al escenario con su espectáculo tan preparado\, por lo tanto te invitamos a asistir y a disfrutar de esta presentación única.
URL:https://www.soychiapanecote.com/evento/moderatto-en-zinacantan/
LOCATION:Explanada Municipal de Zinacantán\, Zona Centro\, Zinacantán\, Chiapas\, 	29350\, México
CATEGORIES:Conciertos en Chiapas
ATTACH;FMTTYPE=image/jpeg:https://www.soychiapanecote.com/wp-content/uploads/2018/01/moderatto-en-zinacantan.jpg
END:VEVENT
END:VCALENDAR