BEGIN:VCALENDAR
VERSION:2.0
PRODID:-//SoyChiapanecote - ECPv6.15.18//NONSGML v1.0//EN
CALSCALE:GREGORIAN
METHOD:PUBLISH
X-ORIGINAL-URL:https://www.soychiapanecote.com
X-WR-CALDESC:Eventos para SoyChiapanecote
REFRESH-INTERVAL;VALUE=DURATION:PT1H
X-Robots-Tag:noindex
X-PUBLISHED-TTL:PT1H
BEGIN:VTIMEZONE
TZID:UTC
BEGIN:STANDARD
TZOFFSETFROM:+0000
TZOFFSETTO:+0000
TZNAME:UTC
DTSTART:20170101T000000
END:STANDARD
END:VTIMEZONE
BEGIN:VEVENT
DTSTART;TZID=UTC:20180302T110000
DTEND;TZID=UTC:20180302T110000
DTSTAMP:20260425T141253
CREATED:20180127T090534Z
LAST-MODIFIED:20180127T090534Z
UID:2945-1519988400-1519988400@www.soychiapanecote.com
SUMMARY:Ha-Ash en Tapachula - Expo Feria Tapachula 2018
DESCRIPTION:Una nueva ciudad se suma a la larga lista de la gira internacional «100 años contigo»\, nada más y nada menos que la presentación de Ha-Ash en Tapachula como parte de la serie de conciertos en el Palenque de la Expo Feria Tapachula 2018. \nAntes de la presentación oficial de Ha-Ash en Tuxtla Gutiérrez\, el popular duo de pop llega a la perla del Soconusco para poder llevar sus más grandes éxitos a todos sus fans de esta región de Chiapas. \nLas hermanas oriundas de Louisiana llegan a la Expo Feria de Tapachula 2018 para interpretar éxitos como «Te dejo en libertad» y «Odio Amarte»\, a continuación te compartimos todos los detalles para no perderte el magno evento de Ha-Ash en Tapachula. \nDetalles del Evento: Ha-Ash en Tapachula – Palenque de la Expo Feria 2018\nLugar: Palenque Expo Feria Tapachula\nDirección: Club Leones\, Los Naranjos\, Universitario\, 30700. \nFecha: 02 de Marzo del 2018 (Viernes) \nHorario: 23:00 hrs. \nPrecios y Localidades\n \nVip 1: $950\nVip 2: $750\nPreferente: $330\nGeneral: $220 \n*Precios con Cargo por Servicio incluido \nPuntos de Ventas:\nPuedes comprar tus boletos desde la comodidad de tu casa a través del portal www.smarticket.com con tan solo dar algunos clics o si lo prefieres puedes adquirir tus boletos en algunos puntos de ventas físicos los cuales son los siguientes: \nFarmacia del Ahorro\, Sucursal Par Vial\nDirección: 7a. Norte Esquina 1a. Calle Oriente #14\, Col. Centro C.p. 30700\, Tapachula. \nFarmacia del Ahorro\, Sucursal Parque de la Marimba\nDirección: Av. Central Pte. Centro\, 29040 Tuxtla Gutiérrez\, Chiapas. \nTaquilla del Evento (Sólo durante el mismo día del evento)\nDirección: Club Leones\, Los Naranjos\, Universitario\, 30700. \nEsta presentación forma parte de su gira internacional\, misma que pasará por Chiapas a través de Tapachula para después presentarse en la ciudad de Tuxtla Gutiérrez así que no te puedes perder sus presentaciones. \nPara ir calentando motores\, te dejamos con su último material audiovisual\, además te invitamos a que visites toda nuestra cartelera de Eventos aquí: Eventos en Chiapas.\nAdemás de leer nuestro último artículo: 7 Ferias Tradicionales más importantes de Chiapas
URL:https://www.soychiapanecote.com/evento/ha-ash-en-tapachula-expo-feria-2018/
LOCATION:Palenque Feria Tapachula\, Los Naranjos\, Tapachula de Córdova y Ordoñez\, Chiapas\, 30700\, México
CATEGORIES:Conciertos en Chiapas,Eventos en Tapachula
ATTACH;FMTTYPE=image/jpeg:https://www.soychiapanecote.com/wp-content/uploads/2018/01/haash-en-expoferia-tapachula2018.jpg
ORGANIZER;CN="Producciones UGARTE":MAILTO:produccionesugarte@hotmail.com
END:VEVENT
BEGIN:VEVENT
DTSTART;TZID=UTC:20180303T230000
DTEND;TZID=UTC:20180303T230000
DTSTAMP:20260425T141253
CREATED:20180128T123610Z
LAST-MODIFIED:20180128T123610Z
UID:2958-1520118000-1520118000@www.soychiapanecote.com
SUMMARY:Alfredo Olivas en Tapachula – Expo Feria 2018
DESCRIPTION:El artista revelación del momento de la música norteña esta listo para interpretar sencillos como “Todo o nada” “El malo de Culiacán” “Tus lágrimas” y “El paciente”\, no te pierdas a Alfredo Olivas en Tapachula. \nEl cantante y compositor de música ranchera\, llegará a tierras chiapanecas con su estilo único de acordeón\, tocando la canción que lanzará su carrera a la fama “El Patroncito” y de donde obtiene su particular sobrenombre. \n“Alfredito”\, como varias personas lo hacen llamar\, de tan solo 24 años de edad y oriundo de Ciudad Obregón\, Sonora\, ha confirmado su participación en la Expo Feria Tapachula 2018. A continuación te compartimos todos los detalles de este concierto que hará tu noche inolvidable. \nDetalles de la presentación de Alfredo Olivas en Tapachula – Expo Feria Tapachula 2018\nLugar: Instalaciones del Palenque Expo Feria Tapachula 2018\nDirección: Los Naranjos\, Tapachula\, 30700 Tapachula de Córdova y Ordoñez\, Chiapas. \nFecha: 03 de Marzo del 2018 \nHorario: 23:00 hrs. \nPrecios y Localidades:\n \nVip 1: $950\nVip 2: $750\nPreferente: $330\nGeneral: $220 \nNota: Los precios ya Incluyen el cargo por servicio \nAdquiere tus boletos con tan solo un clic a través del portal www.smartticket.com o en los siguientes puntos de ventas confirmados: \nFarmacias del Ahorro\nSucursal Par Vial\n7a. Norte Esquina 1a. Calle Oriente #14\, Col. Centro C.P. 30700 Tapachula\, Chis.\nHorario de Lunes a Domingo (11:00 am – 03:00 pm y 4:00pm – 8:00pm) \nTaquilla del Palenque de la Expo Feria Tapachula 2018 (Únicamente durante el día del evento)\nDirección: Club Leones\, Los Naranjos\, Universitario\, 30700. \nNota: Recuerda que los boletos en taquilla son dependiendo la disponibilidad de cupo. \nEsperamos esta información te haya sido de ayuda y que asistas para pasar una velada agradable. \nFinalmente e invitamos a visitar nuestra cartelera para conocer más información acerca de los conciertos y presentaciones de diversos artistas aquí: Eventos en Chiapas\, además te invitamos a que leas nuestro último artículo: 4 Lugares Románticos de Chiapas para visitar con tu pareja. \nTe dejamos una pequeña probadita del último videoclip de Alfredo Olivas “El problema” que hará que te prepares para su concierto.
URL:https://www.soychiapanecote.com/evento/alfredo-olivas-en-tapachula-feria-2018/
LOCATION:Palenque Feria Tapachula\, Los Naranjos\, Tapachula de Córdova y Ordoñez\, Chiapas\, 30700\, México
CATEGORIES:Conciertos en Chiapas,Eventos en Tapachula
ATTACH;FMTTYPE=image/jpeg:https://www.soychiapanecote.com/wp-content/uploads/2018/01/alfredo-olivas-tapachula.jpg
ORGANIZER;CN="Producciones UGARTE":MAILTO:produccionesugarte@hotmail.com
END:VEVENT
BEGIN:VEVENT
DTSTART;TZID=UTC:20180316T233000
DTEND;TZID=UTC:20180316T233000
DTSTAMP:20260425T141253
CREATED:20180125T170153Z
LAST-MODIFIED:20180309T200627Z
UID:2936-1521243000-1521243000@www.soychiapanecote.com
SUMMARY:Yuridia en Tapachula - Expo Feria Tapachula 2018
DESCRIPTION:Como parte del cartel estelar del Palenque de la Feria Tapachula Mesoamericana 2018\, no te puedes perder la presentación especial de la cantante Yuridia en Tapachula\, a continuación te compartimos todos los detalles. \nComo cada año\, la FIT 2018 reunirá a lo más destacado del ámbito artístico para presentarse en sus escenarios\, en el marco de esta máxima feria tradicional de Chiapas llega la ganadora de la cuarta generación del reality show La Academia: Yuridia. \nConocida por sus interpretaciones de «Angel» y «Amigos no por favor» la cantante originaria de Sonora llega a tierras chiapanecas para deleitarnos con su voz. \nA continuación te presentamos toda la información que necesitas saber para no perderte esta presentación. Recuerda que puedes consultar la cartelera completa en: Expo Feria Tapachula 2018. \nDetalles de la presentación de Yuridia en Tapachula\nLugar: Palenque Expo Feria Tapachula 2018\nDirección: Los Naranjos\, Tapachula\, 30700 Tapachula de Córdova y Ordoñez\, Chiapas. \nFecha: Viernes 16 de Marzo del 2018 \nHorario: 23:30 hrs. \nPrecios y Lugares por Zonas:\n \n\nGeneral: $220.00\nPreferente: $330.00\nVip Rojo: $650.00\nVip Azul: $850.00\n*Cargo por servicio incluido\n\nPuntos de Venta:\nPara que no tengas ningún pretexto para no asistir a la presentación de Yuridia en Tapachula\, se han habilitado diversos puntos de ventas en donde podrás adquirir tus boletos sin ningún problema. \nLa primer opción es realizar la compra de tus boletos a través del portal smarticket.com\, aquí podrás adquirir tus accesos sin necesidad de hacer filas o dejar la comodidad de tu hogar. Es importante que tengas bien claro que al usar este portal se te hará un cargo extra de aproximadamente el 10% sobre el costo total de tu boleto por concepto de servicio. \nAdemás de poder comprarlos de manera online\, puedes acudir a dos de los puntos de venta físicos que se han habilitado: \nFarmacia del Ahorro\, Sucursal Par Vial\nDirección: 7a. Norte\, Esquina 1a. Calle Ote #14\, Col. Centro C.P. 30700\, Tapachula\, Chiapas.\nHorarios de Atención: Lunes a Domingo de 11:00 AM a 3:00 PM y 4:00 PM a 8:00 PM. \nTaquilla del Palenque Expo Feria Tapachula 2018\nDirección: Club Leones\, Los Naranjos\, Universitario\, C.P. 30700 Tapachula\, Chiapas. \nTambién podrás adquirir tus boletos en la taquilla del lugar únicamente el día del evento.\n\n\n\n \nEsperamos que toda esta información te haya sido de ayuda\, si tienes alguna duda o aclaración puedes escribirnos a soychiapanecote@gmail.com. \nPara finalizar te compartimos el más reciente material audiovisual de Yuridia nos sin antes invitarte a ver nuestra cartelera completa de Eventos en Chiapas y a leer nuestro artículo: Platillos Típicos de Chiapas que conquistarán tu paladar.
URL:https://www.soychiapanecote.com/evento/yuridia-en-tapachula-expo-feria-2018/
LOCATION:Palenque Feria Tapachula\, Los Naranjos\, Tapachula de Córdova y Ordoñez\, Chiapas\, 30700\, México
CATEGORIES:Conciertos en Chiapas,Eventos en Tapachula
ATTACH;FMTTYPE=image/jpeg:https://www.soychiapanecote.com/wp-content/uploads/2018/01/palenque-yuridia-feria-tapachula.jpg
ORGANIZER;CN="Producciones UGARTE":MAILTO:produccionesugarte@hotmail.com
END:VEVENT
BEGIN:VEVENT
DTSTART;TZID=UTC:20180317T233000
DTEND;TZID=UTC:20180317T233000
DTSTAMP:20260425T141253
CREATED:20180126T111532Z
LAST-MODIFIED:20180128T204225Z
UID:2942-1521329400-1521329400@www.soychiapanecote.com
SUMMARY:Julión Álvarez en Tapachula - Expo Feria Tapachula 2018
DESCRIPTION:Como parte del cartel estelar del palenque de gallos\, se ha anunciado la participación del popular cantante Julión Álvarez en Tapachula\, no te puedes perder al interprete del pueblo en este magno evento\, aquí te compartimos todos los detalles. \nEl cantante chiapaneco de éxitos como «Terrenal» y «Las mulas de Morelos» deleitara a sus seguidores huacaleros este 17 de Marzo en el Palenque de la Feria Expo Tapachula 2018\, a continuación te compartimos precios\, locaciones y todo lo que tienes que saber para no perderte el concierto de este gran interprete. \n| Te recordamos que puedes consultar la cartelera artística completa en nuestro artículo: Expo Feria Tapachula 2018. \nDetalles del Evento: Julión Álvarez en Tapachula\nFecha: Sábado\, 17 de Marzo del 2018 \nHorario: 23:30 hrs. \nLugar: Palenque Expo Feria Tapachula\nDirección: Club Leones\, Los Naranjos\, Universitario\, 30700. \nLos precios y localidades para ver a Julión Álvarez son los siguientes:\n \nVip 1: $1550\nVip 2: $1050\nPreferente: $430\nGeneral: $220 \nPuntos de Ventas oficiales: \nComo todos los eventos del Palenque de la Expo Feria de Tapachula\, puedes comprar tus boletos desde la comodidad de tu casa a través del portal www.smarticket.com con tan solo dar un par de clic y pagar un pequeño cargo por concepto de servicio o si lo prefieres puedes adquirir tus boletos en los siguientes puntos de ventas. \nFarmacia del Ahorro\, Sucursal Par Vial\nDirección: 7a. Norte Esquina 1a. Calle Oriente #14\, Col. Centro C.p. 30700\, Tapachula. \nFarmacia del Ahorro\, Sucursal Parque de la Marimba\nAvenida Central Pte. Centro\, 29040 Tuxtla Gutiérrez\, Chiapas. \nTambién puedes comprar tus boletos en la taquilla del lugar el día del evento\, sin embargo te recomendamos comprar tus boletos con anticipación para evitar cualquier sorpresa. \n \nCualquier información o actualización te mantendremos informado y esperamos que esta información te sea de gran utilidad para planificar y asistir al concierto de Julión Álvarez en Tapachula\, en la Expo Feria de Tapachula. \n  \nTe dejamos con su último video no sin antes invitarte a leer nuestra cartelera completa en nuestra página: Eventos de Chiapas. \n 
URL:https://www.soychiapanecote.com/evento/julion-alvarez-en-tapachula-feria-palenque/
LOCATION:Palenque Feria Tapachula\, Los Naranjos\, Tapachula de Córdova y Ordoñez\, Chiapas\, 30700\, México
CATEGORIES:Conciertos en Chiapas,Eventos en Tapachula
ATTACH;FMTTYPE=image/jpeg:https://www.soychiapanecote.com/wp-content/uploads/2018/01/julion-alvarez-en-tapachula.jpg
ORGANIZER;CN="Producciones UGARTE":MAILTO:produccionesugarte@hotmail.com
END:VEVENT
BEGIN:VEVENT
DTSTART;TZID=UTC:20180323T090000
DTEND;TZID=UTC:20180323T233000
DTSTAMP:20260425T141253
CREATED:20180123T102639Z
LAST-MODIFIED:20180128T100535Z
UID:2919-1521795600-1521847800@www.soychiapanecote.com
SUMMARY:Natalia LaFourcade en Tuxtla Gutiérrez\, Chiapas
DESCRIPTION:Como parte de su gira mundial para promocionar su más reciente material discográfico titulado «Musas»\, no te puedes perder la presentación de Natalia LaFourcade en Tuxtla Gutiérrez\, Chiapas\, aquí te compartimos todos los detalles. \n¡Así es! Tal y como lo lees\, la popular cantante mexicana Natalia LaFourcade pisará tierras chiapanecas en marzo para deleitar a sus fans con canciones como «Hasta la raíz» y «Tu si sabes quererme» tal y como lo afirmo en su portal oficial. \n \nDetalles de la presentación de Natalia LaFourcade en Tuxtla Gutiérrez\, Chiapas\nLugar: Centro de Convenciones y Polyforum Chiapas\nDirección: Andrés Serra Rojas S/N\, El Retiro\, 29040 Tuxtla Gutiérrez\, Chis. \nFecha: Viernes 23 de Marzo del 2018 \nHorario: 21:00 hrs. \nPrecios y Locaciones:\n \nLos precios oficiales han sido anunciados a través del portal oficial de compra de boletos\, dichos costos son los siguientes: \nZona VIP y Melón (Zona Diamante): $1\,250 \nZona Magenta (Zona VIP): $900 \nZona Azul (Preferente): $500 \nPuntos de Venta: \nPor el momento el único punto de venta confirmado es a través del portal online Veratickets.com\, aquí podrás adquirir tus boletos desde la comodidad de tu casa y sin hacer filas\, en este portal podrás ver los asientos disponibles y realizar la compra para recogerlos en donde se te indique. \nAl comprar tus boletos a través de esta plataforma se hace un cargo extra por concepto de servicio y uso de la tarjeta de crédito\, quedando los precios de la siguiente manera: \n$1\,437.00 ($1\,250.00 Boleto + $125.00 Cargo/Servicio + $62.00 Cargo/Tarjeta) – DIAMANTE\n$1\,035.00 ($900.00 Boleto + $90.00 Cargo/Servicio + $45.00Cargo/Tarjeta) – VIP\n$575.00 ($500.00 Boleto + $50.00 Cargo/Servicio + $25.00Cargo/Tarjeta) – PREFERENTE \nSi compras de manera online recuerda llevar tu identificación oficial\, de lo contrario no podrás reclamar tus boletos. \nSe espera que se liberen otros puntos de venta físicos\, pronto te daremos a conocer más información.\n\n\n\n \nAlgunos consejos para asistir al evento de Natalia LaFourcade en Tuxtla\n\nNo se permitirá la entrada a cámaras profesionales de video\, audio o fotografía\nSe recomienda no llevar selfie sticks o cualquier otro objeto que obstruya la visión de otros asistentes\nAunque no hay un límite de edad\, recomendamos que menores de 15 años vayan acompañados de un tutor\nLlegar al día del evento con 30 minutos de anticipación\n\nTe dejamos con el más reciente sencillo de Natalia Lafourcade de su disco «Musas» para que vayas preparando la garganta para presenciar este evento en Chiapas tan importante.
URL:https://www.soychiapanecote.com/evento/natalia-lafourcade-en-tuxtla-chiapas/
LOCATION:Centro de Convenciones y Polyforum Chiapas\, Andrés Serra Rojas S/N\, El Retiro\, 29040 Tuxtla Gutiérrez\, Chis.\, Tuxtla Gutiérrez\, Chiapas\, 30200\, México
CATEGORIES:Conciertos en Chiapas
ATTACH;FMTTYPE=image/jpeg:https://www.soychiapanecote.com/wp-content/uploads/2018/01/natalia-en-tuxtla.jpg
END:VEVENT
END:VCALENDAR