BEGIN:VCALENDAR
VERSION:2.0
PRODID:-//SoyChiapanecote - ECPv6.15.18//NONSGML v1.0//EN
CALSCALE:GREGORIAN
METHOD:PUBLISH
X-WR-CALNAME:SoyChiapanecote
X-ORIGINAL-URL:https://www.soychiapanecote.com
X-WR-CALDESC:Eventos para SoyChiapanecote
REFRESH-INTERVAL;VALUE=DURATION:PT1H
X-Robots-Tag:noindex
X-PUBLISHED-TTL:PT1H
BEGIN:VTIMEZONE
TZID:UTC
BEGIN:STANDARD
TZOFFSETFROM:+0000
TZOFFSETTO:+0000
TZNAME:UTC
DTSTART:20170101T000000
END:STANDARD
END:VTIMEZONE
BEGIN:VEVENT
DTSTART;TZID=UTC:20180920T080000
DTEND;TZID=UTC:20180923T170000
DTSTAMP:20260425T054411
CREATED:20180902T181846Z
LAST-MODIFIED:20180902T182557Z
UID:3257-1537430400-1537722000@www.soychiapanecote.com
SUMMARY:XVII Festival Internacional de Marimbistas 2018
DESCRIPTION:Las maderas comienzan a sonar ya que el XVII Festival Internacional de Marimbistas 2018 está a la vuelta de la esquina\, conoce aquí todos los detalles de este evento tan especial para la cultura nacional y chiapaneca. \nLa Secretaria de Cultura\, el Gobierno del Estado de Chiapas y CONECULTA en Coordinación con el Teatro Francisco I. Madero han anunciado la nueva edición del festival Internacional de Marimbistas\, evento que año con año reúne a los más grandes exponentes de la percusión en este instrumento tan emblemático de Chiapas. \nSe darán cita marimbistas\, marimberos e intérpretes para escuchar grandes piezas de este bello instrumento. \nDetalles del XVII Festival Internacional de Marimbistas 2018\nLugar: Teatro Francisco I. Madero en Tuxtla Gutiérrez\nDirección:  San Marcos 29000\, San Marcos\, 29000 Tuxtla Gutiérrez\, Chis. \nFecha: 20 al 23 de Septiembre del 2018 \nCosto: Entrada Gratuita. \n¡No te lo puedes perder! Este tipo de eventos busca rescatar y exaltar lo bello de este instrumento tan arraigado con la cultura de Chiapas\, por lo que tu asistencia es muy importante\, podrás conocer más sobre este instrumento\, escuchar a los grandes ejecutantes y pasar una velada agradable al son de la marimba.\n\n\n\n\nPara cualquier duda o comentario puedes contactarnos a soychiapanecote@gmail.com. \nTe dejamos un video de la última edición de este evento no sin antes invitarte a que leas nuestro más reciente artículo: Tascalate de Chiapas ¡una bebida refrescante y única que debes probar!.
URL:https://www.soychiapanecote.com/evento/xvii-festival-internacional-de-marimbistas-2018/
LOCATION:Chiapas
CATEGORIES:Conciertos en Chiapas
ATTACH;FMTTYPE=image/jpeg:https://www.soychiapanecote.com/wp-content/uploads/2018/09/FestivalInternacionaldeMarimbistas2018.jpg
END:VEVENT
BEGIN:VEVENT
DTSTART;TZID=UTC:20180929T180000
DTEND;TZID=UTC:20180930T200000
DTSTAMP:20260425T054411
CREATED:20171022T115725Z
LAST-MODIFIED:20180908T043626Z
UID:2596-1538244000-1538337600@www.soychiapanecote.com
SUMMARY:Cinema Sinfónico Vol. IV
DESCRIPTION:De nueva cuenta el proyecto Cinema Sinfónico hará una nueva temporada en el Teatro de la Ciudad «Emilio Rabasa»\, a continuación te compartimos toda la información conocida hasta el momento. \nCinema Sinfónico es un espectáculo único y original que combina la música sinfónica\, la danza\, el cine y el teatro en un mismo escenario. \nCon más de 40 actores acompañados por más de 50 músicos en escena\, Cinema Sinfónico de Chiapas se ha convertido en el espectáculo favorito de los chiapanecos gracias a su calidad e impresionante ejecución. \nCinema Sinfónico abre una nueva temporada presentando Cinema Sinfónico Vol. IV\, ahora con nuevas películas\, nuevas coreografías nuevos efectos especiales pero con la misma intención de seguir promoviendo las artes y el entretenimiento en el estado de Chiapas. \n \nCinema Sinfónico logró en su primera versión romper récord de taquilla y esperamos que esta cuarta temporada no sea la excepción\, no se pierdan este gran espectáculo que sin duda les hará pasar un momento mágico y agradable. \nDesde Star Wars hasta Piratas del Caribe\, este espectáculo 100% chiapaneco ha deleitado a todas las audiencias desde su primera edición \nDetalles del Evento: Cinema Sinfónico IV\nFunciones:\nSábado 29 de Septiembre: 18:00 y 20:00 hrs.\nDomingo 30 de Septiembre: 18:00 y 20:00 hrs. \nPrecios:\nPlanta baja $220\nPlanta alta $160 \nPuntos de Venta Autorizados:\nFarmacias del Ahorro Sucursal Parque de la Marimba\nAv. Central Pte. S/N\, Centro\, 29000 Tuxtla Gutiérrez\, Chis. \nTaquilla del Teatro de la Ciudad Emilio Rabasa\nCalz. Hombres Ilustres S/N\, Centro\, 29000 Tuxtla Gutiérrez\, Chis. \nPara mayores Informes puedes contactar a los organizadores en los siguientes números telefónicos: 6131349 y 61 31297 \n¡No puedes faltar! \nFinalmente te recomiendamos leer: ¿Eres de Chiapas? ¡Ya puedes tramitar tu Acta de Nacimiento en Internet! Ademas recuerda consultar toda nuestra cartelera en Eventos en Chiapas y seguirnos en Facebook para no perderte ningún evento.
URL:https://www.soychiapanecote.com/evento/cinema-sinfonico-eventos-chiapas/
LOCATION:Teatro de la Ciudad\, Calz. Hombres Ilustres S/N\, Centro\,  Tuxtla Gutiérrez\, Chis.\, Tuxtla Guitérrez\, Chiapas\, 29000\, México
CATEGORIES:Conciertos en Chiapas,Obras de Teatro en Chiapas
ATTACH;FMTTYPE=image/jpeg:https://www.soychiapanecote.com/wp-content/uploads/2017/10/cinema-sinfonico-iv.jpg
END:VEVENT
END:VCALENDAR