BEGIN:VCALENDAR
VERSION:2.0
PRODID:-//SoyChiapanecote - ECPv6.15.18//NONSGML v1.0//EN
CALSCALE:GREGORIAN
METHOD:PUBLISH
X-WR-CALNAME:SoyChiapanecote
X-ORIGINAL-URL:https://www.soychiapanecote.com
X-WR-CALDESC:Eventos para SoyChiapanecote
REFRESH-INTERVAL;VALUE=DURATION:PT1H
X-Robots-Tag:noindex
X-PUBLISHED-TTL:PT1H
BEGIN:VTIMEZONE
TZID:UTC
BEGIN:STANDARD
TZOFFSETFROM:+0000
TZOFFSETTO:+0000
TZNAME:UTC
DTSTART:20160101T000000
END:STANDARD
END:VTIMEZONE
BEGIN:VEVENT
DTSTART;TZID=UTC:20171209T180000
DTEND;TZID=UTC:20171209T200000
DTSTAMP:20260425T195220
CREATED:20171201T070147Z
LAST-MODIFIED:20171201T070147Z
UID:2734-1512842400-1512849600@www.soychiapanecote.com
SUMMARY:Rock para Niños: Los Patita de Perro en Tuxtla Gutiérrez\, Chiapas
DESCRIPTION:De nueva cuenta llega a Chiapas un espectáculo muy especial de Rock para Niños: Los Patita de Perro en Tuxtla Gutiérrez\, un concierto lleno de Rock and Roll\, diversión y un rato muy agradable para chicos y grandes. \nNo te pierdas a esta agrupación originaria de Puebla con su show en donde podrás escuchar canciones como «Mamá Soltera»»Corazón de Coca» y «Ráscate la panza». \nLos Patita de Perro llegan a Tuxtla Gutiérrez como parte de los festejos de los 15 años del proyecto Radiombligo\, una iniciativa que ha educado y entretenido a los más chicos de Chiapas con sus increíbles programas e historias que cautivan la información de todos lo que escuchan su programación. \nDetalles del Evento «Los Patito de Perro en Tuxtla Gutiérrez»\nRadiombligo celebrará sus 15 años a lo grande con la presencia del mejor grupo de rock infantil del país\, Los Patita de Perro\, tu asistencia será de gran ayuda para el apoyo de este clase de eventos en nuestro estado. A continuación te compartimos todos los detalles ¡No Faltes! \n \nLugar: Auditorio de la UNICACH\nDirección: Avenida Sinaloa 12\, Caleras Maciel\, 29000 Tuxtla Gutiérrez\, Chis. \nFecha y Hora: 9 de Diciembre a las 6:00 PM. \nPrecios (Cuota de Recuperación): \nZona Oro: $300\nZona Plata: $200\nZona Bronce: $150 \nPuntos de Venta: El Árbol: Centro de Desarrollo Integral (23 poniente sur #253 Colonia Santa Elena) \nPara más información puedes contactar a los organizadores al siguiente número: 9615931778 \nNo te puedes perder este show\, a continuación te dejamos algunas canciones de este grupo para que vayas preparando tus tenis\, tu garganta y tus energías para brincar\, cantar y pasar un rato muy agradable en este evento. \nRecuerda que puedes consultar toda nuestra cartelera en nuestra sección: Eventos en Chiapas \nAdemás te invitamos a leer: 5 Dulces Típicos de Chiapas que endulzarán tu vida
URL:https://www.soychiapanecote.com/evento/los-patita-de-perro-en-tuxtla-gutierrez-chiapas/
LOCATION:Auditorio UNICACH\, Av Sinaloa 12\, Caleras Maciel\, Tuxtla Gutiérrez\, Chiapas\, 29000\, México
CATEGORIES:Conciertos en Chiapas
ATTACH;FMTTYPE=image/jpeg:https://www.soychiapanecote.com/wp-content/uploads/2017/12/los-patita-de-perro-en-tuxtla.jpg
END:VEVENT
BEGIN:VEVENT
DTSTART;TZID=UTC:20171209T220000
DTEND;TZID=UTC:20171209T235900
DTSTAMP:20260425T195220
CREATED:20171116T084943Z
LAST-MODIFIED:20200408T034234Z
UID:2672-1512856800-1512863940@www.soychiapanecote.com
SUMMARY:Marco Antonio Solís en Tuxtla Gutiérrez\, Chiapas
DESCRIPTION:De nueva cuenta el público chiapaneco podrá ver al cantautor Marco Antonio Solís en Tuxtla Gutiérrez\, entérate aquí de todos los detalles. \nHace horas se confirmo la presentación de Marco Antonio Solís en Tuxtla. El anuncio fue dado por la página oficial de la Feria Chiapas 2017 por lo que seguramente este show conmemorativo a los 40 años de trayectoria de «El Buki» será parte de el Palenque de este año. \nDetalles del Evento: Marco Antonio Solís en Tuxtla Gutiérrez\nFecha: 09 de Diciembre del 2017 \nLugar: Foro Chiapas\nDirección: Carretera Juan Crispin Chicoasen Km. 2.5\, Plan de Ayala\, 29020 Tuxtla Gutiérrez\, Chis. \nLocaciones y Precios: \n \n  \nPrecios y Locaciones para el Concierto de Marco Antonio Solís \n$530 General \n$1590 Preferente \n$ 2120 VIP L-T \n$2330 VIP A-K \nPuntos de Venta:\nPuedes adquirir tus boletos a través del portal www.smarticket.com o en los dos puntos de ventas confirmados:\n– Farmacia del Ahorro Sucursal Parque de la Marimba\n– Plaza Galerias \n\n\n\n\nAún queda mucha información por confirmar\, el evento mismo no ha sido confirmado nada en la página oficial del cantante. \nSin embargo esperemos ansiosos para ver a Marco Antonio Solís en Tuxtla. Mantente al tanto de nuestras redes sociales para cualquier actualización. \nsoychiapanecote@gmail.com \nOí vos\, también debés leer: 5 platillos típicos de Chiapas que conquistarán tu paladar
URL:https://www.soychiapanecote.com/evento/marco-antonio-solis-en-tuxtla/
LOCATION:Foro Chiapas\, Mactumatza 1861\, Plan de Ayala\, 29110 Tuxtla Gutiérrez\, Chis.\, Tuxtla Gutierrez\, Chiapas\, 29049\, México
CATEGORIES:Conciertos en Chiapas
ATTACH;FMTTYPE=image/jpeg:https://www.soychiapanecote.com/wp-content/uploads/2017/11/buki-marcoantoniosolis.jpg
END:VEVENT
END:VCALENDAR