BEGIN:VCALENDAR
VERSION:2.0
PRODID:-//SoyChiapanecote - ECPv6.15.18//NONSGML v1.0//EN
CALSCALE:GREGORIAN
METHOD:PUBLISH
X-WR-CALNAME:SoyChiapanecote
X-ORIGINAL-URL:https://www.soychiapanecote.com
X-WR-CALDESC:Eventos para SoyChiapanecote
REFRESH-INTERVAL;VALUE=DURATION:PT1H
X-Robots-Tag:noindex
X-PUBLISHED-TTL:PT1H
BEGIN:VTIMEZONE
TZID:UTC
BEGIN:STANDARD
TZOFFSETFROM:+0000
TZOFFSETTO:+0000
TZNAME:UTC
DTSTART:20160101T000000
END:STANDARD
END:VTIMEZONE
BEGIN:VEVENT
DTSTART;TZID=UTC:20171214T230000
DTEND;TZID=UTC:20171214T230000
DTSTAMP:20260425T195123
CREATED:20171204T115523Z
LAST-MODIFIED:20171204T115523Z
UID:2746-1513292400-1513292400@www.soychiapanecote.com
SUMMARY:Alfredo Olivas en el Palenque de la Feria Chiapas 2017
DESCRIPTION:No te puedes perder a Alfredo Olivas en el Palenque de la Feria Chiapas 2017. Desde Ciudad Obregón\, «El Patroncito» está listo para deleitar a sus fans con su música\, aquí te contamos todos los detalles. \nComo parte de la serie de presentaciones a realizarse dentro de las festividades de la Feria Chiapas\, llega Alfredo Olivas\, un joven de 23 años que ha dado mucho de que hablar dentro del ámbito musical gracias a sus canciones de música grupera y banda. \nDetalles de la Presentación de Alfredo Olivas en el Palenque de la Feria Chiapas\nFecha del Evento: 17 de Diciembre \nHora: 23:30 hrs. \nLugar: Palenque de la Feria Chiapas (Clic aquí para ver mapa)\nDirección: Carretera Juan Crispin Chicoasen Km. 2.5\, Plan de Ayala\, 29020 Tuxtla Gutiérrez\, Chis. \nPrecios de los Boletos: \nVip                     $950\nPreferente       $650\nGeneral           $220 \n\n\nPuntos de venta\nComo en todos los eventos de la Feria Chiapas\, puedes adquirir tus boletos a través del portal Smarticket.com\, solo tienes que ingresar a este sitio web\, elegir la opción Chiapas y elegir el concierto de tu preferencia para poder tener tu acceso desde la comodidad de tu casa.\n\nTambién podrás comprar tus boletos acudiendo a los siguientes puntos en la ciudad de Tuxtla Gutiérrez:\nFarmacia del Ahorro Sucursal Parque de la Marimba\nAv. Central Pte. S/N\, Centro\, Guadalupe\, 29000 Tuxtla Gutiérrez\, Chis.\n\nPlaza Galerías Boulevard (A un costado de Plaza Crystal)\nBlvd. Belisario Domínguez 1861\, Bugambilias\, 29058 Tuxtla Gutiérrez\, Chis.\n\nPara terminar te dejamos su video más reciente no sin antes invitarte a que leas: Lugares Románticos en Chiapas para visitar en pareja\n\nAdemás\, recuerda que puedes ver la cartelera completa de la Feria Chiapas dando clic aquí: Cartelera de la Feria Chiapas 2017: Masivos y Palenque\n\nY si buscas que hacer\, puedes consultar nuestra cartelera de Eventos en Chiapas.\nAhí encontrarás conciertos\, obras de teatro y más.
URL:https://www.soychiapanecote.com/evento/alfredo-olivas-en-el-palenque-feria-chiapas/
LOCATION:Palenque de la Feria Chiapas\, Carretera Juan Crispin Chicoasen Km. 2.5\, Plan de Ayala\, Tuxtla Gutiérrez\, Chiapas\, 29020\, México
CATEGORIES:Conciertos en Chiapas
ATTACH;FMTTYPE=image/jpeg:https://www.soychiapanecote.com/wp-content/uploads/2017/12/alfredo-olivas.jpg
END:VEVENT
END:VCALENDAR