BEGIN:VCALENDAR
VERSION:2.0
PRODID:-//SoyChiapanecote - ECPv6.15.18//NONSGML v1.0//EN
CALSCALE:GREGORIAN
METHOD:PUBLISH
X-ORIGINAL-URL:https://www.soychiapanecote.com
X-WR-CALDESC:Eventos para SoyChiapanecote
REFRESH-INTERVAL;VALUE=DURATION:PT1H
X-Robots-Tag:noindex
X-PUBLISHED-TTL:PT1H
BEGIN:VTIMEZONE
TZID:UTC
BEGIN:STANDARD
TZOFFSETFROM:+0000
TZOFFSETTO:+0000
TZNAME:UTC
DTSTART:20160101T000000
END:STANDARD
END:VTIMEZONE
BEGIN:VEVENT
DTSTART;TZID=UTC:20171215T220000
DTEND;TZID=UTC:20171215T235900
DTSTAMP:20260425T195519
CREATED:20171205T111209Z
LAST-MODIFIED:20171205T111209Z
UID:2753-1513375200-1513382340@www.soychiapanecote.com
SUMMARY:Myriam y Carlos Macías en el Palenque de la Feria Chiapas 2017
DESCRIPTION:Como parte de la serie de conciertos a realizarse en la Feria Chiapas\, llega al escenario principal la presentación de dos grandes interpretes\, no te pierdas a Myriam Montemayor y Carlos Macías en el Palenque de la Feria Chiapas 2017\, aquí te damos todos los detalles. \nComo cada año\, la explanada de la Feria Chiapas se engalana con la presentación de diversos artistas de talla nacional e internacional\, en el marco de esta festividad\, se presenta en el Palenque la ex-académica Myriam Montemayor y el canta-autor chiapaneco Carlos Macías. \nDetalles del a presentación de Myriam y Carlos Macías en el Palenque de la Feria Chiapas 2017\nPrecio de los boletos:\nVip – $750\nPreferente – $550\nGeneral – $220 \n \nFecha del Evento: 15 de Diciembre del 2017 \nHora: 23:30 hrs. \nLugar: Palenque de la Feria Chiapas (Clic aquí para ver mapa)\nDirección: Carretera Juan Crispin Chicoasen Km. 2.5\, Plan de Ayala\, 29020 Tuxtla Gutiérrez\, Chis. \nPuedes adquirir tus boletos a través del portal Smarticket.com\, desde la comodidad de tu casa o acudir a alguno de los diversos puntos de ventas de la ciudad. \nFarmacia del Ahorro Sucursal Parque de la Marimba\nAvenida Central Pte. S/N\, Centro\, Guadalupe\, Tuxtla Gutiérrez\, Chis. \nPlaza Galerías Boulevard (Al lado de Plaza Crystal)\nBlvd. Belisario Domínguez 1861\, Bugambilias\, Tuxtla Gutiérrez\, Chis. \nNo te puedes perder lo mejor de este par de artistas que unirán sus voces para hacerte pasar un rato increíble\, te compartimos sus más grandes éxitos para que vayas preparándote para su presentación. \nRecuerda que puedes ver todas las presentaciones de la feria aquí: Cartelera Feria Chiapas 2017 \nAdemás te invitamos a leer: Palabras chiapanecas y su significado
URL:https://www.soychiapanecote.com/evento/carlos-macias-en-el-palenque-feria-chiapas/
LOCATION:Palenque de la Feria Chiapas\, Carretera Juan Crispin Chicoasen Km. 2.5\, Plan de Ayala\, Tuxtla Gutiérrez\, Chiapas\, 29020\, México
CATEGORIES:Conciertos en Chiapas
ATTACH;FMTTYPE=image/jpeg:https://www.soychiapanecote.com/wp-content/uploads/2017/12/miriam-y-carlos-macias.jpg
ORGANIZER;CN="Producciones UGARTE":MAILTO:produccionesugarte@hotmail.com
END:VEVENT
END:VCALENDAR