BEGIN:VCALENDAR
VERSION:2.0
PRODID:-//SoyChiapanecote - ECPv6.15.18//NONSGML v1.0//EN
CALSCALE:GREGORIAN
METHOD:PUBLISH
X-WR-CALNAME:SoyChiapanecote
X-ORIGINAL-URL:https://www.soychiapanecote.com
X-WR-CALDESC:Eventos para SoyChiapanecote
REFRESH-INTERVAL;VALUE=DURATION:PT1H
X-Robots-Tag:noindex
X-PUBLISHED-TTL:PT1H
BEGIN:VTIMEZONE
TZID:UTC
BEGIN:STANDARD
TZOFFSETFROM:+0000
TZOFFSETTO:+0000
TZNAME:UTC
DTSTART:20160101T000000
END:STANDARD
END:VTIMEZONE
BEGIN:VEVENT
DTSTART;TZID=UTC:20171216T233000
DTEND;TZID=UTC:20171217T020000
DTSTAMP:20260425T195112
CREATED:20171129T111327Z
LAST-MODIFIED:20171203T154658Z
UID:2727-1513467000-1513476000@www.soychiapanecote.com
SUMMARY:Yuri en el Palenque de la Feria Chiapas 2017
DESCRIPTION:Dentro de las festividades y conciertos de la Feria Chiapas 2017\, no te puedes perder la presentación de Yuri en el Palenque. \nLa jarocha favorita de todo México llega a tierras chiapanecas como parte del programa de conciertos pagados del tradicional Palenque de la Feria Chiapas\, en este evento podremos disfrutas los más grandes éxitos de la cantante. \nLa cantante de la Maldita Primavera llega a Chiapas con su nuevo show «Tan Cerquita Tour» ¿te lo vas a perder? \nRecuerda que puedes consultar la Cartelera Completa de la Feria Chiapas 2017 dando clic aquí. \nPrecios de la Presentación de Yuri en el Palenque de la Feria Chiapas 2017\n \nLos precios para ver a Yuri en el Palenque de la Feria Chiapas son: \nVip: $1250\nPreferente: $850\nGeneral: $320 \nPuntos de Venta Confirmados:\nComo todos los eventos del Palenque de la Feria Chiapas 2017\, puedes adquirir tus boletos vía online a través del portal SmarTicket o acudir a uno de los puntos de venta físicos de la ciudad: \nFarmacia del Ahorro\, Sucursal del Parque de la Marimba\nAv. Central Pte. S/N\, Centro\, Guadalupe\, 29000 Tuxtla Gutiérrez\, Chis.\n \nPlaza Galerías Boulevard\nBlvd. Belisario Domínguez 1861\, Bugambilias\, 29058 Tuxtla Gutiérrez\, Chis.\nDetalles de la Presentación de Yuri en el Palenque de la Feria Chiapas \nFecha: Sábado 16 de Diciembre 2017\nHorario: 23:30 Hrs.\nLugar: Palenque Feria Chiapas\nDirección: Carretera Juan Crispin Chicoasen Km. 2.5\, Plan de Ayala\, 29020 Tuxtla Gutiérrez\, Chis. \nEsta no es la primera vez que Yuri se presenta en el Palenque de la Feria Chiapas\, en ediciones pasadas ella ha tenido la oportunidad de deleitar al publico chiapaneco con sus canciones\, te dejamos su último video el cual es parte de su versión «Primera Fila»\, un concepto que revive los mejores éxitos de artistas en una versión en vivo y diferente\, esperemos lo disfrutes y te sea de ayuda para que vayas preparándote para su show\, algo que definitivamente debes leer.
URL:https://www.soychiapanecote.com/evento/yuri-en-el-palenque-feria-chiapas-2017/
LOCATION:Palenque de la Feria Chiapas\, Carretera Juan Crispin Chicoasen Km. 2.5\, Plan de Ayala\, Tuxtla Gutiérrez\, Chiapas\, 29020\, México
CATEGORIES:Conciertos en Chiapas
ATTACH;FMTTYPE=image/jpeg:https://www.soychiapanecote.com/wp-content/uploads/2017/11/yuri.jpg
ORGANIZER;CN="Producciones UGARTE":MAILTO:produccionesugarte@hotmail.com
END:VEVENT
END:VCALENDAR