BEGIN:VCALENDAR
VERSION:2.0
PRODID:-//SoyChiapanecote - ECPv6.15.18//NONSGML v1.0//EN
CALSCALE:GREGORIAN
METHOD:PUBLISH
X-ORIGINAL-URL:https://www.soychiapanecote.com
X-WR-CALDESC:Eventos para SoyChiapanecote
REFRESH-INTERVAL;VALUE=DURATION:PT1H
X-Robots-Tag:noindex
X-PUBLISHED-TTL:PT1H
BEGIN:VTIMEZONE
TZID:UTC
BEGIN:STANDARD
TZOFFSETFROM:+0000
TZOFFSETTO:+0000
TZNAME:UTC
DTSTART:20170101T000000
END:STANDARD
END:VTIMEZONE
BEGIN:VEVENT
DTSTART;TZID=UTC:20180217T090000
DTEND;TZID=UTC:20180217T233000
DTSTAMP:20260425T165427
CREATED:20180112T093009Z
LAST-MODIFIED:20180112T093116Z
UID:2877-1518858000-1518910200@www.soychiapanecote.com
SUMMARY:Lupita D'Alessio en Tuxtla Gutiérrez\, Chiapas - 2018
DESCRIPTION:Llega a nuestro estado la presentación de la Leona Dormida\, no te puedes perder la oportunidad de escuchar éxitos cómo «Inocente Pobre Amiga» y «Mentiras»\, aquí te compartimos todos los detalles de el show de Lupita D’Alessio en Tuxtla Gutiérrez\, Chiapas. \nComo parte de su gira para conmemorar los 45 años de trayectoria\, Lupita D’Alessio llega a tierras chiapanecas lista para interpretar sus más grandes éxitos y para promocionar su más reciente material discográfico «Zona Preferente«\, una propuesta en vivo grabada en Acapulco. \nDetalles de la presentación Lupita D’Alessio en Tuxtla Gutiérrez\, Chiapas\nLugar: Centro de Convenciones y Polyforum Chiapas\nDirección: Andrés Serra Rojas S/N\, El Retiro\, 29040 Tuxtla Gutiérrez\, Chis. \nFecha: Sábado 17 de Febrero del 2018 \nHorario: 21:00 hrs. \nPrecios y Locaciones\n \nZona Melón: $1\,500\nZona Magenta Central: $1\,000\nZona Magenta Lateral: $800\nZona Turquesa Central: $600\nZona Turquesa Lateral: $400 \n\nPuntos de Venta:\nFarmacia del Ahorro\, Sucursal Parque de la Marimba\nAvenida Central Pte. Centro\, 29040 Tuxtla Gutiérrez\, Chiapas. \nComo en muchos eventos de Chiapas\, se han abierto un punto de venta virtual a través del portal tusboletos.mx\, visita el portal y podrás adquirir tus boletos sin hacer fila desde la comodidad de tu hogar. \nEn caso de que te decidas por esta segunda opción\, es importante que sepas que el precio de los boletos tiene un costo extra por conceptos operativos\, aquí te desglosamos los precios con dichos cargos para que evalúes de mejor manera tu compra. \nZona Melón: $1\,612.00 ($1\,500.00 Boleto + $50.00 Servicio + $62.00 Tarj. Cred)\nZona Magenta Central: $1\,092.00 ($1\,000.00 Boleto + $50.00 Servicio + $42.00 Tarj. Cred)\nZona Magenta Lateral: $884.00 ($800.00 Boleto + $50.00 Servicio + $34.00 Tarj. Cred)\nZona Turquesa Central: $676.00 ($600.00 Boleto + $50.00 Servicio + $26.00 Tarj. Cred)\nZona Turquesa Lateral: $468.00 ($400.00 Boleto + $50.00 Servicio + $18.00 Tarj. Cred) \nConsejos para disfrutar de la presentación: \n\nAsiste con media hora de anticipación\, el espacio para estacionarse es limitado.\nNo lleves palos de selfie u otro objeto que pueda obstruir la visión de otros espectadores.\n¡Disfruta el concierto!\n\nFinalmente te compartimos un video con lo más nuevo de la Lupita D’Alessio\, no sin antes invitarte a leer nuestro artículo: 5 platillos típicos de Chiapas que conquistarán tu paladar
URL:https://www.soychiapanecote.com/evento/lupita-dalessio-tuxtla-gutierrez-chiapas-2018/
LOCATION:Centro de Convenciones y Polyforum Chiapas\, Andrés Serra Rojas S/N\, El Retiro\, 29040 Tuxtla Gutiérrez\, Chis.\, Tuxtla Gutiérrez\, Chiapas\, 30200\, México
CATEGORIES:Conciertos en Chiapas
ATTACH;FMTTYPE=image/jpeg:https://www.soychiapanecote.com/wp-content/uploads/2018/01/lupita-dalessio-en-tuxtla.jpg
END:VEVENT
END:VCALENDAR