BEGIN:VCALENDAR
VERSION:2.0
PRODID:-//SoyChiapanecote - ECPv6.15.18//NONSGML v1.0//EN
CALSCALE:GREGORIAN
METHOD:PUBLISH
X-WR-CALNAME:SoyChiapanecote
X-ORIGINAL-URL:https://www.soychiapanecote.com
X-WR-CALDESC:Eventos para SoyChiapanecote
REFRESH-INTERVAL;VALUE=DURATION:PT1H
X-Robots-Tag:noindex
X-PUBLISHED-TTL:PT1H
BEGIN:VTIMEZONE
TZID:UTC
BEGIN:STANDARD
TZOFFSETFROM:+0000
TZOFFSETTO:+0000
TZNAME:UTC
DTSTART:20170101T000000
END:STANDARD
END:VTIMEZONE
BEGIN:VEVENT
DTSTART;TZID=UTC:20180223T190000
DTEND;TZID=UTC:20180225T230000
DTSTAMP:20260425T164846
CREATED:20180213T082431Z
LAST-MODIFIED:20180213T082431Z
UID:3006-1519412400-1519599600@www.soychiapanecote.com
SUMMARY:Carnaval Tuxtla Gutiérrez 2018
DESCRIPTION:Es oficial\, la fiesta y la alegría se apoderará de las calles de la capital ya que se ha revelado la cartelera oficial del Carnaval Tuxtla Gutiérrez 2018\, conoce aquí todos los detalles. \nComo cada año llega a la capital una de las festividades más importantes\, en donde se darán cita artistas de diversos géneros en un contexto de alegría y festividad lleno de cultura\, actividades y diversión. \nCartelera del Carnaval Tuxtla Gutiérrez 2018\n \nJuan Magan\n23 de Febrero | 21:00 hrs \nDirectamente desde la madre patria\, llega el astro de la música electrónica latina: Juan Magan. No te puedes perder su show en donde podrás escuchar éxitos como «Bailando por ahí» o «Si no te quisiera». \nBelanova\n24 de Febrero | 19:oo hrs. \nAgrupación de Electro-Pop famosa por canciones como «Baila mi corazón» y «Rosa Pastel»\, llega a Tuxtla para alegrar a sus seguidores con su ritmo pegajoso. \nKumbia Kings\n24 de Febrero | 21:00 hrs. \nPopular agrupación que agrupa géneros como la cumbia y el hip-hop para crear temas como «Boom Boom»\, «Fuego» y «Sabes a Chocolate»\, llegan a Tuxtla Gutiérrez como parte de su reencuentro luego de haber desaparecido por poco más de 7 años ¡no te los puedes perder! \nAlfredo Olivas\n25 Febrero | 21:00 hrs. \nComo parte de sus gira por el país\, Alfredo Olivas hace una parada en el carnaval de Tuxtla Gutiérrez 2018 para consentir a sus fans con sus más grandes éxitos quienes podrán corear a todo pulmón canciones como «El malo de Culiacán» y «El Paciente». ¡No te lo pierdas! \n  \n\n\n\n \nDetalles de los eventos del Carnaval Tuxtla Gutiérrez 2018\nNo te puedes perder esta serie de presentaciones las cuales forman parte de una serie de actividades como shows culturales\, eventos deportivos\, desfiles\, carros alegóricos y muchas otras más\, sin lugar a dudas una festividad que no te puedes perder. \nEl Carnaval de Tuxtla Gutiérrez es una de las principales Festividades de Chiapas debido a su poder de convocatoria e increíbles espectáculos. \nComo cada año las presentaciones suelen realizarse en el Parque Central aunque ha habido años en los que se han celebrado cerca del Parque 5 de Mayo\, aún no se confirma el lugar oficial\, sin embargo en cuanto se de a conocer más información te la daremos a conocer. \nNo te puedes quedar sin ser parte de las festividades del Carnaval Tuxtla Gutiérrez 2018\, un evento que tienes que vivir. Recuerda que puedes consultar nuestra cartelera completa en: Eventos de Chiapas\, recuerda seguir nuestra página de eventos en Facebook para no perder de ningún evento o detalle. Solo da clic aquí.
URL:https://www.soychiapanecote.com/evento/carnaval-tuxtla-gutierrez-2018/
LOCATION:Chiapas
CATEGORIES:Conciertos en Chiapas
ATTACH;FMTTYPE=image/jpeg:https://www.soychiapanecote.com/wp-content/uploads/2018/02/Carnaval-Tuxtla-Gutiérrez-2018.jpg
ORGANIZER;CN="Producciones UGARTE":MAILTO:produccionesugarte@hotmail.com
END:VEVENT
END:VCALENDAR