BEGIN:VCALENDAR
VERSION:2.0
PRODID:-//SoyChiapanecote - ECPv6.15.18//NONSGML v1.0//EN
CALSCALE:GREGORIAN
METHOD:PUBLISH
X-ORIGINAL-URL:https://www.soychiapanecote.com
X-WR-CALDESC:Eventos para SoyChiapanecote
REFRESH-INTERVAL;VALUE=DURATION:PT1H
X-Robots-Tag:noindex
X-PUBLISHED-TTL:PT1H
BEGIN:VTIMEZONE
TZID:UTC
BEGIN:STANDARD
TZOFFSETFROM:+0000
TZOFFSETTO:+0000
TZNAME:UTC
DTSTART:20170101T000000
END:STANDARD
END:VTIMEZONE
BEGIN:VEVENT
DTSTART;TZID=UTC:20180227T200000
DTEND;TZID=UTC:20180227T233000
DTSTAMP:20260425T154158
CREATED:20180210T140817Z
LAST-MODIFIED:20180210T140817Z
UID:3003-1519761600-1519774200@www.soychiapanecote.com
SUMMARY:El Bebeto en la Feria de Frontera Comalapa 2018
DESCRIPTION:Después de un 2017 cosechando éxitos\, el joven cantante de música regional mexicana Carlos Alberto García Villanueva anuncia una nueva fecha\, esta vez en Chiapas\, conoce aquí todos los detalles de la presentación de El Bebeto en la Feria de Frontera Comalapa. \nEl Bebeto se une a la cartelera de la Feria de Frontera Comalapa para llevar sus más grandes éxitos a toda la población de este municipio quienes podrán escuchar lo más reciente de su material discográfico titulado «No que no»\, una propuesta novedosa que seguramente sus seguidores disfrutarán escuchar. \nDetalle del evento de El Bebeto en la Feria de Frontera Comalapa \nFecha: Martes\, 27 de Febrero del 2018 \nHorario: 9:00 PM \nLugar: Instalaciones de la Feria de Frontera Comalapa \n  \nPrecios y Localidades: \nComo todos los eventos artísticos de la cartelera\, la presentación de El Bebeto en la Feria de Frontera Comalapa no tendrá costo alguno para los asistentes\, se asignarán ciertos espacios por cuestiones de organización y logística\, sin embargo el evento es abierto a todo el publico sin requisito alguno. \nEsta presentación se suma a la de cantantes como Alfredo Olivas\, Octubre Doce\, Alta Consigna con Virlan García entre otros\, quienes con su presencia alegrarán del 24 al 28 de Febrero a toda la región. \nAdemás\, como todos los años\, en el espacio abarcado por la Feria de Frontera Comalapa podrás degustar bocadillos en alguno de los diversos puestos de comida o si lo deseas podrás subirte a cualquiera de los diversos juegos mecánicos o pequeñas dinámicas para ganar premios como peluches. \nEsperamos no te pierdas la presentación de El Bebeto en la Feria de Frontera Comalapa\, para finalizar te dejamos su más reciente material audiovisual\, no sin antes invitarte a leer nuestro último artículo: \nFiestas y Ferias de Chiapas \nAdemás\, si lo deseas puedes consultar nuestra cartelera en nuestra página de Eventos en Chiapas (Página de Facebook aquí)
URL:https://www.soychiapanecote.com/evento/el-bebeto-en-la-feria-de-frontera-comalapa/
LOCATION:Chiapas
CATEGORIES:Conciertos en Chiapas
ATTACH;FMTTYPE=image/jpeg:https://www.soychiapanecote.com/wp-content/uploads/2018/02/bebeto-feria-comalapa2018.jpg
END:VEVENT
END:VCALENDAR