BEGIN:VCALENDAR
VERSION:2.0
PRODID:-//SoyChiapanecote - ECPv6.15.18//NONSGML v1.0//EN
CALSCALE:GREGORIAN
METHOD:PUBLISH
X-WR-CALNAME:SoyChiapanecote
X-ORIGINAL-URL:https://www.soychiapanecote.com
X-WR-CALDESC:Eventos para SoyChiapanecote
REFRESH-INTERVAL;VALUE=DURATION:PT1H
X-Robots-Tag:noindex
X-PUBLISHED-TTL:PT1H
BEGIN:VTIMEZONE
TZID:UTC
BEGIN:STANDARD
TZOFFSETFROM:+0000
TZOFFSETTO:+0000
TZNAME:UTC
DTSTART:20170101T000000
END:STANDARD
END:VTIMEZONE
BEGIN:VEVENT
DTSTART;TZID=UTC:20180403T030000
DTEND;TZID=UTC:20180403T180000
DTSTAMP:20260425T141254
CREATED:20180325T141439Z
LAST-MODIFIED:20180325T141439Z
UID:3055-1522724400-1522778400@www.soychiapanecote.com
SUMMARY:Ricardo Montaner en San Cristóbal de Las Casas
DESCRIPTION:En el marco de la Feria de la Primavera y de la Paz 2018\, llega desde tierras venezolanas uno de los cantantes más prolíficos de la balada romántica\, no te puedes perder a Ricardo Montaner en San Cristóbal de Las Casas\, aquí te presentamos todos los detalles. \nComo cada año\, uno de los más bellos Pueblos Mágicos de Chiapas se viste de manteles largos con su fiesta tradicional más representativa\, nos referimos a San Cristóbal de Las Casas\, que en esta ocasión celebra 460 años de su fundación. \nComo parte de estos festejos se organizan múltiples actividades y festejos\, entre ellos la Tradicional Comida del Recuerdo\, una velada en donde las personas pueden llegar a degustar deliciosos platillos acompañado de la música de grandes artistas\, en esta ocasión: Ricardo Montaner. \nRecuerda que puedes consultar la Cartelera completa de actividades aquí:\nFeria de la Primavera y de La Paz 2018 \nDetalles del Evento: Ricardo Montaner en San Cristóbal de Las Casas\nLugar: Centro de Convenciones y Eventos «Las Brisas»\nDirección: Boulevard Juan Sabines #12\, Barrio de Fatima\, 29264 San Cristóbal de las Casas\, Chiapas.\n(A un costado del Deportivo San Cristóbal) \nFecha: 03 de Abril | Martes \nHorario: 3:00 PM \nPrecios y Locaciones:\nZona A: $2500 \nZona B: $2000 \nZona C: $1500 \n[CROQUIS DEL LUGAR NO DISPONIBLE] \n\n\n\n \nInformes y venta de boletos: \nCentro de Convenciones Las Brisas | Teléfono: 63-177-18\nFarmacia BIOS | Teléfono: 67-8-18-18 \nNo te puedes perder este magno evento y pasar una velada romántica y bohemia\, para finalizar te compartimos una de las canciones más populares del cantante y te invitamos a que no te pierdas a Ricardo Montaner en San Cristóbal de Las Casas\, sin lugar a dudas será un evento que te encantará- \nFinalmente te invitamos a que visites nuestra cartelera completa con todos los conciertos y eventos del estado: Eventos en Chiapas
URL:https://www.soychiapanecote.com/evento/ricardo-montaner-en-san-cristobal/
LOCATION:San Cristóbal de Las Casas\, San Cristíbal de Las Casas\, Chiapas\, México
CATEGORIES:Conciertos en Chiapas,San Cristóbal de Las Casas
ATTACH;FMTTYPE=image/jpeg:https://www.soychiapanecote.com/wp-content/uploads/2018/03/ricardo-montaner-en-san-cristobal-de-las-casas.jpg
END:VEVENT
END:VCALENDAR