BEGIN:VCALENDAR
VERSION:2.0
PRODID:-//SoyChiapanecote - ECPv6.15.18//NONSGML v1.0//EN
CALSCALE:GREGORIAN
METHOD:PUBLISH
X-WR-CALNAME:SoyChiapanecote
X-ORIGINAL-URL:https://www.soychiapanecote.com
X-WR-CALDESC:Eventos para SoyChiapanecote
REFRESH-INTERVAL;VALUE=DURATION:PT1H
X-Robots-Tag:noindex
X-PUBLISHED-TTL:PT1H
BEGIN:VTIMEZONE
TZID:UTC
BEGIN:STANDARD
TZOFFSETFROM:+0000
TZOFFSETTO:+0000
TZNAME:UTC
DTSTART:20170101T000000
END:STANDARD
END:VTIMEZONE
BEGIN:VEVENT
DTSTART;TZID=UTC:20180421T200000
DTEND;TZID=UTC:20180421T200000
DTSTAMP:20260425T141132
CREATED:20180412T091556Z
LAST-MODIFIED:20180807T183315Z
UID:3101-1524340800-1524340800@www.soychiapanecote.com
SUMMARY:Bronco en Tuxtla Gutiérrez - Foro Chiapas
DESCRIPTION:Directamente desde el norte del país llega una de las agrupaciones con mayor impacto en la cultura nacional\, no te puedes perder a Bronco en Tuxtla Gutiérrez\, Chiapas ¡Aquí tenemos todos los detalles! No te puedes quedar fuera. \nBronco es una agrupación de música norteña\, alcanzando popularidad nacional desde los años 80 con su sencillo «Sergio el Bailador»\, mismo que hasta la fecha sigue siendo el favorito de fans y extraños. \nLa banda conformada originalmente por José Guadalupe Esparza\, Ramiro Delgado\, José Luis Villareal\, Javier Villareal y René Guadalupe Esparza se toma un descanso regresando con una nueva agrupación en el 2017\, ahora acompañados por los hijos de Lupe Esparza y un nuevo baterista (Javier Cancún) sustituyendo al fallecido «Choche». \nComo parte de este reencuentro se lanzan a una gira nacional de la cual Chiapas no podía quedar fuera\, un evento al que no puedes faltar. \n¡OJO! Si vienes por la presentación de Bronco en Comitán 2018\, te informamos que tristemente se ha cancelado por los constantes bloqueos carreteros\, \nDetalles de Bronco en Tuxtla Gutiérrez\, Chiapas\nLugar: Foro Chiapas\nDirección: Carretera Juan Crispin Chicoasen Km. 2.5\, Colonia Plan de Ayala\, C.P. 29020\, Tuxtla Gutiérrez\, Chiapas. \nFecha: 21 de Abril del 2018 \nHorario: 20:00 hrs. \nPrecios y Localidades:\n\n$152.00 – Preferente\n$190.00 – Oro\n$380.00 – Ruedo Preferente\n$475.00 – VIP\n$570.00 – Platino Lateral\n$665.00 – Platino Central\n$855.00 – Palcos \nPuntos de Venta:\nFarmacia del Ahorro\nSucursal: Parque de La Marimba y  Belisario Domínguez \nOficinas del Diario de Chiapas (Plaza Galerías) \nNo te puedes quedar sin escuchar completamente en vivo a Bronco en Tuxtla Gutiérrez interpretando sus grandes éxitos como «Que no quede huella» y «Amigo Bronco«\, a continuación te compartimos su más reciente video para comenzar a entrar en ambiente.\n \nFinalmente de recomendamos visitar todos los eventos del estado aquí: Eventos en Chiapas
URL:https://www.soychiapanecote.com/evento/bronco-en-tuxtla-gutierrez/
LOCATION:Foro Chiapas\, Mactumatza 1861\, Plan de Ayala\, 29110 Tuxtla Gutiérrez\, Chis.\, Tuxtla Gutierrez\, Chiapas\, 29049\, México
CATEGORIES:Conciertos en Chiapas
ATTACH;FMTTYPE=image/jpeg:https://www.soychiapanecote.com/wp-content/uploads/2018/04/bronco-21-de-abril.jpg
END:VEVENT
END:VCALENDAR