BEGIN:VCALENDAR
VERSION:2.0
PRODID:-//SoyChiapanecote - ECPv6.15.18//NONSGML v1.0//EN
CALSCALE:GREGORIAN
METHOD:PUBLISH
X-WR-CALNAME:SoyChiapanecote
X-ORIGINAL-URL:https://www.soychiapanecote.com
X-WR-CALDESC:Eventos para SoyChiapanecote
REFRESH-INTERVAL;VALUE=DURATION:PT1H
X-Robots-Tag:noindex
X-PUBLISHED-TTL:PT1H
BEGIN:VTIMEZONE
TZID:UTC
BEGIN:STANDARD
TZOFFSETFROM:+0000
TZOFFSETTO:+0000
TZNAME:UTC
DTSTART:20170101T000000
END:STANDARD
END:VTIMEZONE
BEGIN:VEVENT
DTSTART;TZID=UTC:20180428T200000
DTEND;TZID=UTC:20180428T233000
DTSTAMP:20260425T141138
CREATED:20171209T123449Z
LAST-MODIFIED:20180118T091553Z
UID:2775-1524945600-1524958200@www.soychiapanecote.com
SUMMARY:Rata Blanca en Tuxtla Gutiérrez\, Chiapas
DESCRIPTION:¡Así es! Como lo leíste\, ha llegado el momento de disfrutar de la agrupación argentina Rata Blanca en Tuxtla Gutiérrez\, Chiapas. \nLa banda más emblemática del power metal en español llega a Chiapas para llenar el escenario con su energía explosiva\, no te puedes perder esta presentación especial conmemorando sus 30 años de trayectoria. \nEste 28 de Abril tienes una cita para ver a Rata Blanca en Tuxtla Gutiérrez\, no te los puedes perder completamente en vivo\, recuerda seguirnos en nuestras redes sociales  ya que actualizaremos más información pronto. \nDetalles del Evento: Rata Blanca en Tuxtla Gutiérrez\, Chiapas\nLugar: Domo del ISSTECH\nDirección: Fidel Velázquez\, Zona Sin Asignación\, Colonia 24\, Tuxtla Gutiérrez\, Chiapas. \nFecha: 28 de Abril \nHorario: 8:00 PM \nPrecio: $560 General \n \n*Las locaciones en este evento son limitadas debido a la naturaleza del lugar. \nPuedes adquirir tus boletos en diversos puntos físicos en la ciudad los cuales no han sido confirmados\, mientras estos se revelan\, te informamos que puedes comprar tus boletos a través del portal SUPERBOLETOS\, con un cargo por concepto de servicio de 60 pesos. \nNo te puedes perder este magno evento este 28 de Abril\, para concluir te compartimos el último video de la agrupación Rata Blanca no sin antes invitarte a que leas nuestro último artículo sobre: Los 4 Pueblos Mágicos de Chiapas
URL:https://www.soychiapanecote.com/evento/rata-blanca-en-tuxtla-gutierrez/
LOCATION:Chiapas
CATEGORIES:Conciertos en Chiapas
ATTACH;FMTTYPE=image/jpeg:https://www.soychiapanecote.com/wp-content/uploads/2017/12/ratablanca-en-chiapas.jpg
END:VEVENT
END:VCALENDAR