BEGIN:VCALENDAR
VERSION:2.0
PRODID:-//SoyChiapanecote - ECPv6.15.18//NONSGML v1.0//EN
CALSCALE:GREGORIAN
METHOD:PUBLISH
X-ORIGINAL-URL:https://www.soychiapanecote.com
X-WR-CALDESC:Eventos para SoyChiapanecote
REFRESH-INTERVAL;VALUE=DURATION:PT1H
X-Robots-Tag:noindex
X-PUBLISHED-TTL:PT1H
BEGIN:VTIMEZONE
TZID:UTC
BEGIN:STANDARD
TZOFFSETFROM:+0000
TZOFFSETTO:+0000
TZNAME:UTC
DTSTART:20170101T000000
END:STANDARD
END:VTIMEZONE
BEGIN:VEVENT
DTSTART;TZID=UTC:20180511T190000
DTEND;TZID=UTC:20180511T230000
DTSTAMP:20260425T125718
CREATED:20180502T062350Z
LAST-MODIFIED:20180502T062350Z
UID:3121-1526065200-1526079600@www.soychiapanecote.com
SUMMARY:Los Ángeles Negros en Tuxtla Gutiérrez
DESCRIPTION:Revive lo mejor de otras épocas con la presentación estelar de Los Ángeles Negros en Tuxtla Gutiérrez este 11 de Mayo ¡el regalo perfecto para mamá! Aquí te compartimos todos los detalles \nTal y como lo leíste llega a la ciudad capital del estado la agrupación chilena que marcó toda una generación\, nos referimos a los reyes de las baladas: Los Ángeles Negros. \nEsta agrupación llega a revivir sus más grandes éxitos en dos funciones que prometen ser mágicas\, no te quedes sin ver a Los Ángeles Negros en Tuxtla interpretando temas como «Murió la flor»\, «Déjenme si estoy llorando» y «A tu recuerdo». \nDetalles del evento: Los Ángeles Negros en Tuxtla Gutiérrez\nLugar: Teatro de la Ciudad «Emilio Rabasa»\nDirección: Calzada de los Hombres Ilustres S/N\, Centro\, 21900 Tuxtla Gutiérrez\, Chiapas. \nFecha: 11 de Mayo del 2018\nHorarios:\n1ª Función: 7:00 PM\n2ª Función: 9:00 PM \nLocalidades y Precios:\n\n◉ Zona Vip: $490\n◉ Zona Preferente $330\n◉ Zona General $220 \nLos boletos para esta increíble presentación se estará realizando en los siguientes puntos de venta ¡no te puedes quedar sin los tuyos! \nFarmacia del Ahorro Sucursal Parque de la Marimba\nDirección: Avenida Central Pte. S/N\, Centro\, 29000\, Tuxtla Gutiérrez\, Chiapas. \nTaquilla del Teatro de la Ciudad Emilio Rabasa\nDirección: Calzada de los Hombres Ilustres S/N\, Centro\, 21900 Tuxtla Gutiérrez\, Chiapas. \nDe igual manera puedes adquirir tus boletos en el portal Smarticket (smarticket.com)\, ahí podrás realizar la compra de tus boletos desde la comodidad de tu casa\, sin hacer filas y utilizando tu tarjeta. Si tienes alguna duda sobre este medio puedes contactarlos mediante su call center: (0155) 30958585 \nRevive lo mejor de otras épocas con este espectáculo único y especial\, no te pierdas a los Angeles Negros en Tuxtla Gutiérrez\, para irte preparando te dejamos su más reciente material audiovisual no sin antes invitarte a ver nuestra cartelera completa en: Eventos en Chiapas.
URL:https://www.soychiapanecote.com/evento/los-angeles-negros-en-tuxtla-gutierrez/
LOCATION:Teatro de la Ciudad\, Calz. Hombres Ilustres S/N\, Centro\,  Tuxtla Gutiérrez\, Chis.\, Tuxtla Guitérrez\, Chiapas\, 29000\, México
CATEGORIES:Conciertos en Chiapas
ATTACH;FMTTYPE=image/jpeg:https://www.soychiapanecote.com/wp-content/uploads/2018/04/angeles-negros-en-tuxtla.jpg
END:VEVENT
END:VCALENDAR