BEGIN:VCALENDAR
VERSION:2.0
PRODID:-//SoyChiapanecote - ECPv6.15.18//NONSGML v1.0//EN
CALSCALE:GREGORIAN
METHOD:PUBLISH
X-WR-CALNAME:SoyChiapanecote
X-ORIGINAL-URL:https://www.soychiapanecote.com
X-WR-CALDESC:Eventos para SoyChiapanecote
REFRESH-INTERVAL;VALUE=DURATION:PT1H
X-Robots-Tag:noindex
X-PUBLISHED-TTL:PT1H
BEGIN:VTIMEZONE
TZID:UTC
BEGIN:STANDARD
TZOFFSETFROM:+0000
TZOFFSETTO:+0000
TZNAME:UTC
DTSTART:20170101T000000
END:STANDARD
END:VTIMEZONE
BEGIN:VEVENT
DTSTART;TZID=UTC:20180517T200000
DTEND;TZID=UTC:20180517T233000
DTSTAMP:20260425T125402
CREATED:20180411T072423Z
LAST-MODIFIED:20180411T072423Z
UID:3081-1526587200-1526599800@www.soychiapanecote.com
SUMMARY:Leo Dan y Napoleón en Tuxtla Gutiérrez
DESCRIPTION:Dos grandes de la música llegan al estado de Chiapas para hacer vibrar a sus fans de toda la vida\, no te puedes perder a Leo Dan y Napoleón en Tuxtla Gutiérrez ¡aquí te tenemos todos los detalles! \nComo parte de una gira en conjunto\, dos monstruos de la balada romántica y música popular hispanoamericana llegan a tierras sureñas\, este par de intérpretes románticos llegan al Polyforum de Tuxtla listos para interpretas sus más grandes éxitos como «Te he prometido» y «Lo que no fue no será». \nEste espectaculo parece ser prometedor\, lleno de música\, diversión y una que otra sorpresa\, como el acompañamiento de Tuti Martínez de los Teen Tops ¡no te lo puedes perder!. \nDetalles del concierto de Leo Dan y Napoleón en Tuxtla Gutiérrez\nLugar: Centro de Convenciones y Polyforum Chiapas\nDirección: Andrés Serra Rojas S/N\, El Retiro\, 29040 Tuxtla Gutiérrez\, Chis. \nFecha: Jueves 15 de Marzo 2018 \nHorario: 08:00 Hrs. \nLocalidades y Precios*:\n \nZona Melón VIP: $ 1\,550.00\nZona Melón: $ 1\,350.00\nZona Magenta Central: $ 950.00\nZona Dorada y Azul Lateral: $ 950.00\nZona Magenta y Verde Lateral: $ 750.00\nZona Turquesa Laterales$ 650.00\nZona Turquesa: $ 650.00 \n*Preventa de boletos  \nPuntos de Venta: \nHotel Hilton Garden Inn\nDirección:  Blvd. Belisario Domínguez 1641\, Sin Nombre\, Jardines de Tuxtla\, C.P. 29020.\nTeléfono: 01 961 617 1800 \nTaquilla Centro de Convenciones Polyforum (Solamente el día del evento)\nDirección: Andrés Serra Rojas S/N\, El Retiro\, 29040 Tuxtla Gutiérrez\, Chis.\nTeléfono: 01 961 614 0975 \nAdemás podrás adquirir tus boletos desde la comodidad de tu casa a través del portal tusboletos.mx\, así que no tienes pretexto para perderte a estos titanes de la canción latinoamericana. \nLos precios incluyen cargos por servicios siempre y cuando se paguen en efectivo y al contado\, en el caso de pago con tarjeta se hace un cobro del 4% por cargo bancario. \nRecomendaciones para asistir al evento de Leo Dan y Napoleón en Tuxtla Gutiérrez\n\nEn eventos como este no se permitirá la entrada a cámaras profesionales de video\, audio o fotografía\, te recomendamos\nSe recomienda no llevar selfie sticks o cualquier otro objeto que obstruya la visión de otros asistentes\nAunque no hay un límite de edad\, recomendamos que menores de 15 años vayan acompañados de un tutor\nLlegar al día del evento con 30 minutos de anticipación ya que en ocasiones se complica encontrar espacios para estacionarse.\n\nPor último te dejamos dos de los más grandes temas de estos intérpretes para que vayas entrando en ambiente y vayas listo para ver a Leo Dan y Napoleón en Tuxtla Gutiérrez 2018 ¡no te los puedes perder!.\n \n \nPara ver más eventos visita nuestra cartelera completa aquí: Eventos en Chiapas
URL:https://www.soychiapanecote.com/evento/leo-dan-y-napoleon-en-tuxtla-gutierrez/
LOCATION:Centro de Convenciones y Polyforum Chiapas\, Andrés Serra Rojas S/N\, El Retiro\, 29040 Tuxtla Gutiérrez\, Chis.\, Tuxtla Gutiérrez\, Chiapas\, 30200\, México
CATEGORIES:Conciertos en Chiapas
ATTACH;FMTTYPE=image/jpeg:https://www.soychiapanecote.com/wp-content/uploads/2018/04/leo-dan-y-napoleon.jpg
END:VEVENT
END:VCALENDAR