BEGIN:VCALENDAR
VERSION:2.0
PRODID:-//SoyChiapanecote - ECPv6.15.18//NONSGML v1.0//EN
CALSCALE:GREGORIAN
METHOD:PUBLISH
X-WR-CALNAME:SoyChiapanecote
X-ORIGINAL-URL:https://www.soychiapanecote.com
X-WR-CALDESC:Eventos para SoyChiapanecote
REFRESH-INTERVAL;VALUE=DURATION:PT1H
X-Robots-Tag:noindex
X-PUBLISHED-TTL:PT1H
BEGIN:VTIMEZONE
TZID:UTC
BEGIN:STANDARD
TZOFFSETFROM:+0000
TZOFFSETTO:+0000
TZNAME:UTC
DTSTART:20170101T000000
END:STANDARD
END:VTIMEZONE
BEGIN:VEVENT
DTSTART;TZID=UTC:20180519T070000
DTEND;TZID=UTC:20180519T230000
DTSTAMP:20260425T125458
CREATED:20180130T110048Z
LAST-MODIFIED:20180207T074236Z
UID:2970-1526713200-1526770800@www.soychiapanecote.com
SUMMARY:Tecate Location Tuxtla 2018 - Zoé\, Fobia\, Siddhartha y Los MasterPlus
DESCRIPTION:Chiapas se suma a los estados de Coahuila y Cancún para ser parte de una gran serie de conciertos\, no te puedes quedar fuera del Tecate Location Tuxtla 2018\, aquí tenemos todos los detalles. \nPor segunda ocasión\, el evento Tecate Location llega a Tuxtla Gutiérrez\, Chiapas\, en esta ocasión con una alineación completamente diferente pero con igual calidad que el año pasado\, siempre pensando en que te pases un buen momento y te lleves un gran sabor de boca. \nEste 19 de Mayo el estadio de béisbol Panchón Contreras vibrará con la energía del publico chiapaneco\, a continuación te compartimos todos los detalles del Tecatle Location Tuxtla 2018. \nDetalles del Tecate Location Tuxtla 2018\nFecha: 19 de Mayo\, 2018 \nHorario: 07:00 PM \nLugar: Estadio de Béisbol «Panchón Contreras»\nDirección: Libramiento Nte. Ote.\, Zona Sin Asignación de Nombre de Col 24\, Tuxtla Gutiérrez\, Chis.\n(En la parte trasera del Estadio Zoque Victor Manuel Reyna) \nVenta de Boletos:\nLa venta de boletos oficial dará inicio a partir del 1ero de Febrero a partir el portal Superboletos.com\, mantente atento ya que pronto daremos de conocer los precios y los puntos de venta físicos. \nPuntos de Venta físicos (Sin confirmar) \n\nFarmacias del Ahorro Plaza Crystal\nFarmacias del Ahorro Parque de la Marimba\nFarmacias del Ahorro Zócalo\n\nLine Up del Tecate Location Tuxtla 2018\nEsta segunda versión del Tecate Location 2018 llega recargada con bandas reconocidas a nivel nacional e internacional\, la alineación de bandas esta encabezada por la veterana banda de rock psicodélico Zoé quien se acompañará de Fobia\, Siddhartha y Los MasterPlus\, todos listos para hacer vibrar tierras chiapanecas. \n \n\n\n\n\nZoé \nBanda de rock alternativo mexicana fundada en Cuernavaca en 1995\, aunque se formalizaron en 1997 cuando comenzaron a tener presentaciones en la Ciudad de México\, conocida por éxitos como «Vía Láctea» y «Labios Rotos» llega a Tuxtla para deleitar a sus fans con su peculiar propuesta. \nFobia \nLlega al escenario del Tecate Location Tuxtla 2018 la veterana banda de rock: Fobia\, liberados por Leonardo de Lozanne la banda originaria de la Ciudad de México\, está preparada para tocar sus más grandes éxitos como «Microbito» y «Hoy tengo miedo» ¡No te lo puedes perder!. \nSiddhartha \nDespués de terminar su faceta como baterista de Zoé\, Jorge Siddhartha nos trae su propuesta novedosa llena de rock directamente al escenario del Tecate Location Tuxtla 2018\, no te pierdas su presentación. \nLos MasterPlus \nDesde Guadalajara\, Jalisco\, llega esta peculiar propuesta conocida como Los MasterPlus\, un trio de músicos que buscan renovar los ritmos más populares de México\, prepárate para bailar al ritmo de temas como «Baia baia» y «Recalentado». \n¡Mantente atento! Pronto tendremos todos los detalles\, mientras tanto vete preparando para adquirir tus boletos este primero de febrero para no quedarte sin asistir a este evento que en su primera emisión hizo vibrar al público chiapaneco. \nTe invitamos a leer nuestra cartelera completa de eventos musicales aquí: Conciertos en Chiapas \n 
URL:https://www.soychiapanecote.com/evento/tecate-location-tuxtla-2018-zoe-fobia/
LOCATION:Estadio de Béisbol Panchón Contreras\, Libramiento Nte. Ote.\, Zona Sin Asignación de Nombre de Col 24\, Tuxtla Gutiérrez\, Chis.\, Tuxtla Gutiérrez\, Chiapas\, México
CATEGORIES:Conciertos en Chiapas
ATTACH;FMTTYPE=image/jpeg:https://www.soychiapanecote.com/wp-content/uploads/2018/01/tecatelocation2018.jpg
END:VEVENT
END:VCALENDAR