BEGIN:VCALENDAR
VERSION:2.0
PRODID:-//SoyChiapanecote - ECPv6.15.18//NONSGML v1.0//EN
CALSCALE:GREGORIAN
METHOD:PUBLISH
X-WR-CALNAME:SoyChiapanecote
X-ORIGINAL-URL:https://www.soychiapanecote.com
X-WR-CALDESC:Eventos para SoyChiapanecote
REFRESH-INTERVAL;VALUE=DURATION:PT1H
X-Robots-Tag:noindex
X-PUBLISHED-TTL:PT1H
BEGIN:VTIMEZONE
TZID:UTC
BEGIN:STANDARD
TZOFFSETFROM:+0000
TZOFFSETTO:+0000
TZNAME:UTC
DTSTART:20170101T000000
END:STANDARD
END:VTIMEZONE
BEGIN:VEVENT
DTSTART;TZID=UTC:20180602T210000
DTEND;TZID=UTC:20180602T233000
DTSTAMP:20260425T112921
CREATED:20180312T103224Z
LAST-MODIFIED:20180312T103224Z
UID:3039-1527973200-1527982200@www.soychiapanecote.com
SUMMARY:Brujería en Tuxtla Gutiérrez | Concierto de Death Metal
DESCRIPTION:Llega a Chiapas una de las bandas más influyentes de la escena del death metal nacional\, no te puedes perder a la banda México-americana Brujería en Tuxtla Gutiérrez en un concierto de Death Metal al que debes asistir. \nConoce aquí todos los detalles de este magno concierto y comienza a preparar tu energía para vivir al máximo está experiencia. \nPrecios: \n$400 en preventa (Venta limitada) \n$500 General \n$750 VIP \nMás detalles pronto. \nTe recomendamos consultar nuestra cartelera completa de eventos aquí: Eventos en Chiapas
URL:https://www.soychiapanecote.com/evento/brujeria-en-tuxtla-gutierrez-death-metal/
LOCATION:Chiapas
CATEGORIES:Conciertos en Chiapas
ATTACH;FMTTYPE=image/jpeg:https://www.soychiapanecote.com/wp-content/uploads/2018/03/Brujería-en-Tuxtla.jpg
END:VEVENT
END:VCALENDAR