BEGIN:VCALENDAR
VERSION:2.0
PRODID:-//SoyChiapanecote - ECPv6.15.18//NONSGML v1.0//EN
CALSCALE:GREGORIAN
METHOD:PUBLISH
X-ORIGINAL-URL:https://www.soychiapanecote.com
X-WR-CALDESC:Eventos para SoyChiapanecote
REFRESH-INTERVAL;VALUE=DURATION:PT1H
X-Robots-Tag:noindex
X-PUBLISHED-TTL:PT1H
BEGIN:VTIMEZONE
TZID:UTC
BEGIN:STANDARD
TZOFFSETFROM:+0000
TZOFFSETTO:+0000
TZNAME:UTC
DTSTART:20170101T000000
END:STANDARD
END:VTIMEZONE
BEGIN:VEVENT
DTSTART;TZID=UTC:20180622T200000
DTEND;TZID=UTC:20180622T233000
DTSTAMP:20260425T114220
CREATED:20180602T183652Z
LAST-MODIFIED:20180603T234927Z
UID:3155-1529697600-1529710200@www.soychiapanecote.com
SUMMARY:Thermo en Tuxtla Gutiérrez - Gira en Kasas
DESCRIPTION:De la mano del proyecto Gira en KAsas llega a Chiapas una de las bandas más representativas de la escena del rock nacional\, conoce aquí todos los detalles de Thermo en Tuxtla Gutiérrez. \nGira en KAsas es un nuevo concepto en la creación de conciertos privados cuyo objetivo es crear una experiencia más memorable para los fans que acuden a estas presentaciones.\n\nGK 2018 tendrá dos fechas en Chiapas siendo Tuxtla Gutiérrez su primera estación para deleitar a los fans de Thermo y el rock. Si quieres consultar la segunda fecha te invitamos a leer: Gira en KAsas: Thermo en San Cristóbal de Las Casas.\nLine Up\n\nThermo\nKill Aniston\nCapitán Ríos\n\nDetalles del Evento Thermo en Tuxtla Gutiérrez – Gira en KAsas\nFecha: 22 de Junio del 2018\nHorario: 8:00 PM\nDirección: 6a Sur #1207\, Esquina 1 Poniente\, Barrio Las Canoítas\n\nCompra de Boletos\nPrecios: $250\nLocaciones: General\n\nPuntos de Venta:\nDebes adquirir tus boletos en línea ingresando al portal Boletia.com e buscar la ciudad de tu elección ¡listo! Sin filas y sin salir de tu casa.\n\nGira en KAsas es un concepto creado originalmente por la banda Kill Aniston para mostrar la música en todas partes sin la necesidad de grandes empresas. Bajo este concepto llega a Tuxtla Gutiérrez y San Cristóbal de Las Casas como parte de las 44 ciudades al rededor del país.\n\nPara comenzar a entrar en el modo rockero te dejamos con el último video de Thermo\, la banda headliner originaria de Guadalajara que promete prendernos con sus más grandes éxitos en todos estos conciertos ¡no te quedes sin ir!\n\nTHERMO – Lo siento\nAlbúm: Bajo el Control del Radar\n\n \n\nFinalmente te invitamos a consultar nuestra cartelera completa de conciertos aquí: Eventos en Chiapas\ny a leer nuestro más reciente artículo: 20 Frase de Rosario Castellanos
URL:https://www.soychiapanecote.com/evento/thermo-en-tuxtla-gutierrez-gira-kasas/
LOCATION:Chiapas
CATEGORIES:Conciertos en Chiapas
ATTACH;FMTTYPE=image/jpeg:https://www.soychiapanecote.com/wp-content/uploads/2018/06/thermo-en-tuxtla-gira-en-kasas.jpg
END:VEVENT
END:VCALENDAR