BEGIN:VCALENDAR
VERSION:2.0
PRODID:-//SoyChiapanecote - ECPv6.15.18//NONSGML v1.0//EN
CALSCALE:GREGORIAN
METHOD:PUBLISH
X-WR-CALNAME:SoyChiapanecote
X-ORIGINAL-URL:https://www.soychiapanecote.com
X-WR-CALDESC:Eventos para SoyChiapanecote
REFRESH-INTERVAL;VALUE=DURATION:PT1H
X-Robots-Tag:noindex
X-PUBLISHED-TTL:PT1H
BEGIN:VTIMEZONE
TZID:UTC
BEGIN:STANDARD
TZOFFSETFROM:+0000
TZOFFSETTO:+0000
TZNAME:UTC
DTSTART:20170101T000000
END:STANDARD
END:VTIMEZONE
BEGIN:VEVENT
DTSTART;TZID=UTC:20180623T200000
DTEND;TZID=UTC:20180623T230000
DTSTAMP:20260425T113003
CREATED:20180603T233720Z
LAST-MODIFIED:20180603T233720Z
UID:3162-1529784000-1529794800@www.soychiapanecote.com
SUMMARY:Thermo en San Cristóbal de Las Casas – Gira en KAsas
DESCRIPTION:Como parte del proyecto denominado «Gira en KAsas»\, llega a Chiapas una de las bandas pioneras de la nueva generación del rock de México\, entérate de todos los detalles de la presentación de Thermo en San Cristóbal de Las Casas. \nEl proyecto denominado Gira en KAsas\, una novedosa propuesta enfocada en la creación\, organización y difusión de conciertos privados con la finalidad de crear experiencias únicas para los fans que acuden a estas presentaciones.\n\n«GK 2018» llega a Chiapas con dos paradas\, la primera es Tuxtla Gutiérrez\, puedes consultar todos los detalles de este primer show aquí: Thermo en Tuxtla Gutiérrez\, Chiapas. \n\nA continuación te presentamos todos los detalles para que no te pierdas a Thermo en San Cristóbal de Las Casas.\nLine Up\n\nThermo\nKill Aniston\nCapitán Ríos\n\nDetalles del Evento Thermo en San Cristóbal de las Casas – Gira en KAsas\nFecha: Sábado 23 de Junio del 2018\nHorario: 8:00 PM\nDirección: Ramón Corona #5\, Colonia Santa Lucía\, San Cristóbal de Las Casas\, Chiapas.\n\nCompra de Boletos\nPrecios: $250\nLocaciones: General\n\nPuntos de Venta:\n\nDebes adquirir tus boletos en línea ingresando al portal Boletia.com y buscar la ciudad de tu elección ¡listo! Sin filas y sin salir de tu casa. \n\nGira en KAsas es un concepto creado originalmente por la banda Kill Aniston para mostrar la música en todas partes sin la necesidad de grandes empresas. Bajo este concepto llega a Tuxtla Gutiérrez y San Cristóbal de Las Casas como parte de las 44 ciudades al rededor del país. \n\nPara comenzar a entrar en el modo rockero te dejamos con el último video de Thermo\, la banda headliner originaria de Guadalajara que promete prendernos con sus más grandes éxitos en todos estos conciertos ¡no te quedes sin ir! \n\nTHERMO – Tal Vez No\nAlbúm: Bajo el Control del Radar\n \n 
URL:https://www.soychiapanecote.com/evento/thermo-en-san-cristobal-gira-kasas/
LOCATION:San Cristóbal de Las Casas\, San Cristíbal de Las Casas\, Chiapas\, México
CATEGORIES:Conciertos en Chiapas,San Cristóbal de Las Casas
ATTACH;FMTTYPE=image/jpeg:https://www.soychiapanecote.com/wp-content/uploads/2018/06/thermo-en-san-cristobal.jpg
END:VEVENT
END:VCALENDAR