BEGIN:VCALENDAR
VERSION:2.0
PRODID:-//SoyChiapanecote - ECPv6.15.18//NONSGML v1.0//EN
CALSCALE:GREGORIAN
METHOD:PUBLISH
X-WR-CALNAME:SoyChiapanecote
X-ORIGINAL-URL:https://www.soychiapanecote.com
X-WR-CALDESC:Eventos para SoyChiapanecote
REFRESH-INTERVAL;VALUE=DURATION:PT1H
X-Robots-Tag:noindex
X-PUBLISHED-TTL:PT1H
BEGIN:VTIMEZONE
TZID:UTC
BEGIN:STANDARD
TZOFFSETFROM:+0000
TZOFFSETTO:+0000
TZNAME:UTC
DTSTART:20170101T000000
END:STANDARD
END:VTIMEZONE
BEGIN:VEVENT
DTSTART;TZID=UTC:20181026T200000
DTEND;TZID=UTC:20181026T200000
DTSTAMP:20260425T055953
CREATED:20180902T175200Z
LAST-MODIFIED:20180902T175200Z
UID:3252-1540584000-1540584000@www.soychiapanecote.com
SUMMARY:Timbiriche en Tuxtla Gutiérrez\, Chiapas
DESCRIPTION:¡Es oficial! Uno de los grupos más emblemáticos del pop mexicano pisará tierras chiapanecas\, no te puedes perder la presentación de Timbiriche en Tuxtla Gutiérrez\, aquí te brindamos todos los detalles para que comiences a prepararte para revivir sus más grandes éxitos. \nSasha\, Benny\, Erik\,Mariana\, Alix y Diego están listos para entonar sus mejores pasos de baile y sus más icónicos temas en la banda Timbiriche este mes de Octubre en Tuxtla Gutiérrez\, prometiendo una velada llena de diversión y grandes momentos. \nDetalles de la presentación de Timbiriche en Tuxtla Gutiérrez\, Chiapas\nFecha: Viernes 26 de octubre de 2018 \nHora: 9:00 PM \nLugar: Foro Chiapas\nDirección: Carretera Juan Crispin Chicoasen Km. 2.5\, Plan de Ayala\, Tuxtla Gutiérrez\, Chiapas. \nMapa de Ubicación del Foro Chiapas: \n \nPrecios y locaciones para ver a Timbiriche en Tuxtla\nRUEDO ORO – $2\,300.00\nRUEDO PLATA  – $1\,955.00\nPREFERENTE – $1\,610.00\nGENERAL – $805.00\n \nPuntos de Venta:\nFarmacia del Ahorro\, Sucursal Parque de la Marimba\nAvenida Central Pte. S/N\, Centro\, Guadalupe \nHotel Hilton Garden Inn Tuxtla\nBlvd. Belisario Domínguez 1641\, Sin Nombre\, Jardines de Tuxtla\, 29020 Tuxtla Gutiérrez\, Chis.\nTeléfono: 01 961 617 1800 \nTaquilla Foro Chiapas\, día del evento \nAdemás podrás adquirir tus boletos de manera online a través del portal eticket.mx\, sin tener que hacer filas y simplemente utilizando tu tarjeta de crédito. \n*Boletos en venta a partir del 03 de Septiembre \nLlego el momento de que revivas temas como «Tu y yo somos uno mismo»\, «Soy un desastre» y «Besos de Ceniza» de la voz de una de las bandas que más marcaron época en el pop nacional. \n¡No te puedes perder a Timbiriche en Tuxtla Gutiérrez! Ya no tienes pretexto\, esperamos vayas preparando tus mejores pasos y recordando las letras de sus más grandes éxitos para pasar una velada increíble. \nFinalmente te dejamos uno de sus más grandes temas no sin antes invitarte a leer nuestro más reciente artículo: Museo Na Bolom ¡Tienes que visitarlo!.
URL:https://www.soychiapanecote.com/evento/timbiriche-en-tuxtla-gutierrez-chiapas/
LOCATION:Foro Chiapas\, Mactumatza 1861\, Plan de Ayala\, 29110 Tuxtla Gutiérrez\, Chis.\, Tuxtla Gutierrez\, Chiapas\, 29049\, México
CATEGORIES:Conciertos en Chiapas
ATTACH;FMTTYPE=image/jpeg:https://www.soychiapanecote.com/wp-content/uploads/2018/09/timbiriche-en-tuxtla-chiapas.jpg
END:VEVENT
END:VCALENDAR