BEGIN:VCALENDAR
VERSION:2.0
PRODID:-//SoyChiapanecote - ECPv6.15.18//NONSGML v1.0//EN
CALSCALE:GREGORIAN
METHOD:PUBLISH
X-ORIGINAL-URL:https://www.soychiapanecote.com
X-WR-CALDESC:Eventos para SoyChiapanecote
REFRESH-INTERVAL;VALUE=DURATION:PT1H
X-Robots-Tag:noindex
X-PUBLISHED-TTL:PT1H
BEGIN:VTIMEZONE
TZID:UTC
BEGIN:STANDARD
TZOFFSETFROM:+0000
TZOFFSETTO:+0000
TZNAME:UTC
DTSTART:20180101T000000
END:STANDARD
END:VTIMEZONE
BEGIN:VEVENT
DTSTART;TZID=UTC:20190625T210000
DTEND;TZID=UTC:20190625T233000
DTSTAMP:20260424T153913
CREATED:20190502T170146Z
LAST-MODIFIED:20190502T170146Z
UID:3472-1561496400-1561505400@www.soychiapanecote.com
SUMMARY:Leo Dan y Alberto Vázquez en Tuxtla Gutiérrez\, Chiapas
DESCRIPTION:Por primera ocasión en el estado de Chiapas\, llega un dueto de grandes voces que prometen hacer cantar y recordad a sus seguidores de toda la vida\, no te pierdas a Leo Dan y Alberto Vázquez en Tuxtla Gutiérrez\, conoce aquí todos los detalles. \nRecordar es volver a vivir\, es por eso que grandes artistas se han unido para dar una serie de conciertos por toda la república y deleitar a sus fans con sus melódias\, siguiendo esta línea\, llegan a tierras chiapanecas este par de intérpretes románticos para llenar de nostalgia y romanticismo el Polyforum de Tuxtla. \nRevive éxitos como «Te he prometido»\, «Maracas» y «Como te extraño mi amor» en un show nunca antes visto en donde la música\, el romanticismo y las sorpresas están garantizadas ¡no te lo puedes perder!. \nDetalles del concierto de Leo Dan y Alberto Vázquez en Tuxtla Gutiérrez\nLugar: Centro de Convenciones y Polyforum Chiapas\nDirección: Andrés Serra Rojas S/N\, El Retiro\, 29040 Tuxtla Gutiérrez\, Chis. \nFecha: Martes 25 de Junio 2019 \nHorario: 09:00 Hrs. \nLocalidades y Precios:\n \nZona Melón: $ 1\,550.00\nZona Magenta Central: $ 1\,350.00\nZona Dorada y Azul Lateral: $ 1\,000.00\nZona Magenta y Verde Lateral: $ 1\,000.00\nZona Turquesa Laterales$ 750.00\nZona Turquesa: $ 750.00 \nPuntos de Venta:\nFarmacia del Ahorro (Sucursal Zócalo)\nDirección: Av. Central Ote. 470-A\, Asamblea de barrio\, San Roque\, 29000 Tuxtla Gutiérrez\, Chis.\nHorario: L-S de 11:00 AM a 7:00 PM y Domingo de 11:00 AM a 3:00 PM \nTaquilla Centro de Convenciones Polyforum (Solamente el día del evento)\nDirección: Andrés Serra Rojas S/N\, El Retiro\, 29040 Tuxtla Gutiérrez\, Chis.\nTeléfono: 01 961 614 0975 \nAdemás podrás adquirir tus boletos desde la comodidad de tu casa a través del portal tusboletos.mx\, así que no tienes pretexto para perderte a estos titanes de la canción latinoamericana. \nLos precios incluyen cargos por servicios siempre y cuando se paguen en efectivo y al contado\, en el caso de pago con tarjeta se hace un cobro del 4% por cargo bancario. \nRecomendaciones para asistir al evento de Leo Dan y Alberto Vázquez en Tuxtla Gutiérrez\n\nEn eventos como este no se permitirá la entrada a cámaras profesionales de video\, audio o fotografía\, te recomendamos\nSe recomienda no llevar selfie sticks o cualquier otro objeto que obstruya la visión de otros asistentes\nAunque no hay un límite de edad\, recomendamos que menores de 15 años vayan acompañados de un tutor\nLlegar al día del evento con 30 minutos de anticipación ya que en ocasiones se complica encontrar espacios para estacionarse.\n\nPor último te dejamos dos de los más grandes temas de estos intérpretes para que vayas entrando en ambiente y vayas listo para ver a Leo Dan y Alberto Vázquez en Tuxtla Gutiérrez 2019 ¡no te los puedes perder!. \nRecuerda visitar nuestra cartelera completa de Eventos en Chiapas. \n 
URL:https://www.soychiapanecote.com/evento/leo-dan-y-alberto-vazquez-en-tuxtla/
LOCATION:Centro de Convenciones y Polyforum Chiapas\, Andrés Serra Rojas S/N\, El Retiro\, 29040 Tuxtla Gutiérrez\, Chis.\, Tuxtla Gutiérrez\, Chiapas\, 30200\, México
CATEGORIES:Conciertos en Chiapas
ATTACH;FMTTYPE=image/jpeg:https://www.soychiapanecote.com/wp-content/uploads/2019/05/leo-dan-y-alberto-vazquez-en-tuxtla-chiapas.jpg
ORGANIZER;CN="Producciones UGARTE":MAILTO:produccionesugarte@hotmail.com
END:VEVENT
END:VCALENDAR