BEGIN:VCALENDAR
VERSION:2.0
PRODID:-//SoyChiapanecote - ECPv6.15.18//NONSGML v1.0//EN
CALSCALE:GREGORIAN
METHOD:PUBLISH
X-ORIGINAL-URL:https://www.soychiapanecote.com
X-WR-CALDESC:Eventos para SoyChiapanecote
REFRESH-INTERVAL;VALUE=DURATION:PT1H
X-Robots-Tag:noindex
X-PUBLISHED-TTL:PT1H
BEGIN:VTIMEZONE
TZID:UTC
BEGIN:STANDARD
TZOFFSETFROM:+0000
TZOFFSETTO:+0000
TZNAME:UTC
DTSTART:20180101T000000
END:STANDARD
END:VTIMEZONE
BEGIN:VEVENT
DTSTART;TZID=UTC:20191213T110000
DTEND;TZID=UTC:20191214T020000
DTSTAMP:20260423T135104
CREATED:20191025T054852Z
LAST-MODIFIED:20191025T055539Z
UID:3622-1576234800-1576288800@www.soychiapanecote.com
SUMMARY:Emmanuel y Mijares en el Palenque de la Feria Chiapas 2019
DESCRIPTION:Dos titanes de la música pop en español llegan al estado del sur en una de sus celebraciones más grandes\, no te puedes perder a Emmanuel y Mijares en el Palenque de la Feria Chiapas 2019\, aquí te presentamos todos los detalles. \nAsí es\, justo como lo leíste\, llega a Chiapas este par de intérpretes cuyos éxitos han cautivado a generaciones y que han unido su talento para brindar un espectáculo de primer nivel que cautivará a todos sus fans del sur. \nAsiste al Palenque de Gallos y disfruta de una velada romántica y mágica con éxitos como «Soldado del amor»\, «Chica de Humo» y «Toda la vida». aquí te platicaremos todo lo que tienes que saber para comprar tus boletos y no te pierdas este gran show. \nDetalles del show de Emmanuel y Mijares en el Palenque de la Feria Chiapas 2019\nLugar: Instalaciones del Palenque de la Feria Chiapas 2019\nDirección: Carretera Juan Crispín – Chicoasén Km. 2.5 C.P. 29020. Tuxtla Gutiérrez\, Chiapas. \nFecha del evento: Viernes 13 de Diciembre 2019 \nHora de inicio: 23:30 hrs. \nCosto de boletos y puntos de ventas oficiales:\n \n  \nLocaciones: \n◉ Zona VIP: $2\,650.00 \n◉ Zona Preferente: $2\,350.00 \n◉ Zona General: $650.00 \n  \n¿Dónde podrás comprar tus boletos? \nLos puntos de ventas oficiales son los siguientes\, te sugerimos comprar en lugares oficiales y con anticipación para asegurar tu lugar en este espectáculo: \nLugar: Hilton Garden Inn\nDirección: Boulevard Belisario Dominguez\, De Los Castillos 1641\, 29050 Tuxtla Gutiérrez\, Chis. \nLugar: The Country Sprint (Plaza Ambar)\nDirección: Plaza Jardines Blvd. Belisario Domínguez 3220 Planta Baja 9\, 10\, Jardines de Tuxtla\, 29020 Tuxtla Gutiérrez\, Chis. \nComprar boletos en línea: Para comodidad de los interesados en asistir a este show\, se ha habilitado la compra de boletos en línea a través del portal Pase36.com en donde podrás elegir tus lugares\, reservarlos\, realizar el pago y recibir en tu email tus accesos para el evento\, una gran opción para evitar filas y adquirir tus boletos hoy mismo. \n\nEste dueto promete ser una de las mejores presentaciones del programa debido a la energía y profesionalismo que despliegan en el escenario\, por eso y muchas cosas más no puedes perderte a Emmanuel y Mijares en el Palenque de la Feria Chiapas 2019. Queremos dejarte con una probadita de lo que verás no sin antes invitarte a consultar nuestra cartelera en: Eventos en Chiapas y darnos un like en Facebook para estar al tanto de toda la información de tus presentaciones favoritas.
URL:https://www.soychiapanecote.com/evento/emmanuel-y-mijares-en-el-palenque-de-la-feria-chiapas/
LOCATION:Palenque Feria Tapachula\, Los Naranjos\, Tapachula de Córdova y Ordoñez\, Chiapas\, 30700\, México
CATEGORIES:Conciertos en Chiapas
ATTACH;FMTTYPE=image/jpeg:https://www.soychiapanecote.com/wp-content/uploads/2019/10/emmanuel-y-mijares-en-palenque-feria-chiapas.jpg
ORGANIZER;CN="Producciones UGARTE":MAILTO:produccionesugarte@hotmail.com
END:VEVENT
END:VCALENDAR